BEGIN:VCALENDAR
VERSION:2.0
PRODID:-//Marion Public Library - ECPv6.15.20//NONSGML v1.0//EN
CALSCALE:GREGORIAN
METHOD:PUBLISH
X-WR-CALNAME:Marion Public Library
X-ORIGINAL-URL:https://marionlib.org
X-WR-CALDESC:Events for Marion Public Library
REFRESH-INTERVAL;VALUE=DURATION:PT1H
X-Robots-Tag:noindex
X-PUBLISHED-TTL:PT1H
BEGIN:VTIMEZONE
TZID:America/New_York
BEGIN:DAYLIGHT
TZOFFSETFROM:-0500
TZOFFSETTO:-0400
TZNAME:EDT
DTSTART:20220313T070000
END:DAYLIGHT
BEGIN:STANDARD
TZOFFSETFROM:-0400
TZOFFSETTO:-0500
TZNAME:EST
DTSTART:20221106T060000
END:STANDARD
BEGIN:DAYLIGHT
TZOFFSETFROM:-0500
TZOFFSETTO:-0400
TZNAME:EDT
DTSTART:20230312T070000
END:DAYLIGHT
BEGIN:STANDARD
TZOFFSETFROM:-0400
TZOFFSETTO:-0500
TZNAME:EST
DTSTART:20231105T060000
END:STANDARD
BEGIN:DAYLIGHT
TZOFFSETFROM:-0500
TZOFFSETTO:-0400
TZNAME:EDT
DTSTART:20240310T070000
END:DAYLIGHT
BEGIN:STANDARD
TZOFFSETFROM:-0400
TZOFFSETTO:-0500
TZNAME:EST
DTSTART:20241103T060000
END:STANDARD
END:VTIMEZONE
BEGIN:VEVENT
DTSTART;TZID=America/New_York:20231002T103000
DTEND;TZID=America/New_York:20231002T110000
DTSTAMP:20260422T021229
CREATED:20230925T163251Z
LAST-MODIFIED:20230925T163251Z
UID:3863-1696242600-1696244400@marionlib.org
SUMMARY:Toddler Storytime
DESCRIPTION:
URL:https://marionlib.org/event/toddler-storytime-62/
END:VEVENT
BEGIN:VEVENT
DTSTART;TZID=America/New_York:20231004T103000
DTEND;TZID=America/New_York:20231004T110000
DTSTAMP:20260422T021229
CREATED:20230925T163707Z
LAST-MODIFIED:20230925T163707Z
UID:3875-1696415400-1696417200@marionlib.org
SUMMARY:Preschool Storytime
DESCRIPTION:
URL:https://marionlib.org/event/preschool-storytime-57/
END:VEVENT
BEGIN:VEVENT
DTSTART;TZID=America/New_York:20231004T160000
DTEND;TZID=America/New_York:20231004T180000
DTSTAMP:20260422T021229
CREATED:20230821T202327Z
LAST-MODIFIED:20230821T202339Z
UID:3831-1696435200-1696442400@marionlib.org
SUMMARY:Beginner Knitting\, Must Pre-register
DESCRIPTION:
URL:https://marionlib.org/event/beginner-knitting-must-pre-register-3/
END:VEVENT
BEGIN:VEVENT
DTSTART;VALUE=DATE:20231009
DTEND;VALUE=DATE:20231010
DTSTAMP:20260422T021229
CREATED:20230925T163620Z
LAST-MODIFIED:20230925T164236Z
UID:3873-1696809600-1696895999@marionlib.org
SUMMARY:Indigenous Peoples Day
DESCRIPTION:CLOSED for Indigenous Peoples Day/Columbus Day
URL:https://marionlib.org/event/indigenous-peoples-day/
END:VEVENT
BEGIN:VEVENT
DTSTART;TZID=America/New_York:20231011T103000
DTEND;TZID=America/New_York:20231011T110000
DTSTAMP:20260422T021229
CREATED:20230925T163805Z
LAST-MODIFIED:20230925T163805Z
UID:3877-1697020200-1697022000@marionlib.org
SUMMARY:Preschool Storytime
DESCRIPTION:
URL:https://marionlib.org/event/preschool-storytime-58/
END:VEVENT
BEGIN:VEVENT
DTSTART;TZID=America/New_York:20231011T160000
DTEND;TZID=America/New_York:20231011T180000
DTSTAMP:20260422T021229
CREATED:20230925T163003Z
LAST-MODIFIED:20230925T163003Z
UID:3859-1697040000-1697047200@marionlib.org
SUMMARY:Beginner Knitting - must pre-register
DESCRIPTION:The third class in a series of three sessions
URL:https://marionlib.org/event/beginner-knitting-must-pre-register-4/
END:VEVENT
BEGIN:VEVENT
DTSTART;TZID=America/New_York:20231011T183000
DTEND;TZID=America/New_York:20231011T200000
DTSTAMP:20260422T021229
CREATED:20230925T163043Z
LAST-MODIFIED:20230925T163136Z
UID:3861-1697049000-1697054400@marionlib.org
SUMMARY:Book Club
DESCRIPTION:
URL:https://marionlib.org/event/book-club-21/
END:VEVENT
BEGIN:VEVENT
DTSTART;TZID=America/New_York:20231016T100000
DTEND;TZID=America/New_York:20231016T110000
DTSTAMP:20260422T021229
CREATED:20230925T163345Z
LAST-MODIFIED:20230925T163345Z
UID:3867-1697450400-1697454000@marionlib.org
SUMMARY:Toddler Storytime
DESCRIPTION:
URL:https://marionlib.org/event/toddler-storytime-63/
END:VEVENT
BEGIN:VEVENT
DTSTART;TZID=America/New_York:20231017T190000
DTEND;TZID=America/New_York:20231017T200000
DTSTAMP:20260422T021229
CREATED:20230925T164114Z
LAST-MODIFIED:20230925T164114Z
UID:3885-1697569200-1697572800@marionlib.org
SUMMARY:Board of Trustees
DESCRIPTION:The community is always welcome to attend.
URL:https://marionlib.org/event/board-of-trustees-9/
END:VEVENT
BEGIN:VEVENT
DTSTART;TZID=America/New_York:20231018T103000
DTEND;TZID=America/New_York:20231018T110000
DTSTAMP:20260422T021229
CREATED:20230925T163838Z
LAST-MODIFIED:20230925T163838Z
UID:3880-1697625000-1697626800@marionlib.org
SUMMARY:Preschool Storytime
DESCRIPTION:
URL:https://marionlib.org/event/preschool-storytime-59/
END:VEVENT
BEGIN:VEVENT
DTSTART;TZID=America/New_York:20231023T103000
DTEND;TZID=America/New_York:20231023T110000
DTSTAMP:20260422T021229
CREATED:20230925T163436Z
LAST-MODIFIED:20230925T163436Z
UID:3869-1698057000-1698058800@marionlib.org
SUMMARY:Toddler Storytime
DESCRIPTION:
URL:https://marionlib.org/event/toddler-storytime-64/
END:VEVENT
BEGIN:VEVENT
DTSTART;TZID=America/New_York:20231025T103000
DTEND;TZID=America/New_York:20231025T110000
DTSTAMP:20260422T021229
CREATED:20230925T163907Z
LAST-MODIFIED:20230925T163907Z
UID:3882-1698229800-1698231600@marionlib.org
SUMMARY:Preschool Storytime
DESCRIPTION:
URL:https://marionlib.org/event/preschool-storytime-60/
END:VEVENT
BEGIN:VEVENT
DTSTART;TZID=America/New_York:20231030T103000
DTEND;TZID=America/New_York:20231030T110000
DTSTAMP:20260422T021229
CREATED:20230925T163506Z
LAST-MODIFIED:20230925T163506Z
UID:3871-1698661800-1698663600@marionlib.org
SUMMARY:Toddler Storytime
DESCRIPTION:
URL:https://marionlib.org/event/toddler-storytime-65/
END:VEVENT
BEGIN:VEVENT
DTSTART;TZID=America/New_York:20231031T080000
DTEND;TZID=America/New_York:20231031T170000
DTSTAMP:20260422T021229
CREATED:20231120T170005Z
LAST-MODIFIED:20231031T203334Z
UID:3968-1698739200-1698771600@marionlib.org
SUMMARY:Closed on Thanksgiving
DESCRIPTION:We will be closed on November 23\, 2023.
URL:https://marionlib.org/event/closed-on-thanksgiving/
END:VEVENT
END:VCALENDAR