BEGIN:VCALENDAR
VERSION:2.0
PRODID:-//Marion Public Library - ECPv6.15.20//NONSGML v1.0//EN
CALSCALE:GREGORIAN
METHOD:PUBLISH
X-WR-CALNAME:Marion Public Library
X-ORIGINAL-URL:https://marionlib.org
X-WR-CALDESC:Events for Marion Public Library
REFRESH-INTERVAL;VALUE=DURATION:PT1H
X-Robots-Tag:noindex
X-PUBLISHED-TTL:PT1H
BEGIN:VTIMEZONE
TZID:America/New_York
BEGIN:DAYLIGHT
TZOFFSETFROM:-0500
TZOFFSETTO:-0400
TZNAME:EDT
DTSTART:20220313T070000
END:DAYLIGHT
BEGIN:STANDARD
TZOFFSETFROM:-0400
TZOFFSETTO:-0500
TZNAME:EST
DTSTART:20221106T060000
END:STANDARD
BEGIN:DAYLIGHT
TZOFFSETFROM:-0500
TZOFFSETTO:-0400
TZNAME:EDT
DTSTART:20230312T070000
END:DAYLIGHT
BEGIN:STANDARD
TZOFFSETFROM:-0400
TZOFFSETTO:-0500
TZNAME:EST
DTSTART:20231105T060000
END:STANDARD
BEGIN:DAYLIGHT
TZOFFSETFROM:-0500
TZOFFSETTO:-0400
TZNAME:EDT
DTSTART:20240310T070000
END:DAYLIGHT
BEGIN:STANDARD
TZOFFSETFROM:-0400
TZOFFSETTO:-0500
TZNAME:EST
DTSTART:20241103T060000
END:STANDARD
END:VTIMEZONE
BEGIN:VEVENT
DTSTART;TZID=America/New_York:20230605T103000
DTEND;TZID=America/New_York:20230605T110000
DTSTAMP:20260422T072833
CREATED:20230503T195316Z
LAST-MODIFIED:20230503T195316Z
UID:3549-1685961000-1685962800@marionlib.org
SUMMARY:Toddler StoryTime
DESCRIPTION:
URL:https://marionlib.org/event/toddler-storytime-56/
END:VEVENT
BEGIN:VEVENT
DTSTART;TZID=America/New_York:20230607T103000
DTEND;TZID=America/New_York:20230607T170000
DTSTAMP:20260422T072833
CREATED:20230503T200339Z
LAST-MODIFIED:20230503T200345Z
UID:3573-1686133800-1686157200@marionlib.org
SUMMARY:Preschool StoryTime
DESCRIPTION:
URL:https://marionlib.org/event/preschool-storytime-52/
END:VEVENT
BEGIN:VEVENT
DTSTART;TZID=America/New_York:20230612T103000
DTEND;TZID=America/New_York:20230612T110000
DTSTAMP:20260422T072833
CREATED:20230503T195419Z
LAST-MODIFIED:20230503T195419Z
UID:3551-1686565800-1686567600@marionlib.org
SUMMARY:Toddler StoryTime
DESCRIPTION:
URL:https://marionlib.org/event/toddler-storytime-57/
END:VEVENT
BEGIN:VEVENT
DTSTART;TZID=America/New_York:20230614T103000
DTEND;TZID=America/New_York:20230614T110000
DTSTAMP:20260422T072833
CREATED:20230503T200421Z
LAST-MODIFIED:20230503T200425Z
UID:3575-1686738600-1686740400@marionlib.org
SUMMARY:Preschool StoryTime
DESCRIPTION:
URL:https://marionlib.org/event/preschool-storytime-53/
END:VEVENT
BEGIN:VEVENT
DTSTART;VALUE=DATE:20230619
DTEND;VALUE=DATE:20230620
DTSTAMP:20260422T072833
CREATED:20230503T195827Z
LAST-MODIFIED:20230503T195827Z
UID:3561-1687132800-1687219199@marionlib.org
SUMMARY:CLOSED for Juneteenth
DESCRIPTION:
URL:https://marionlib.org/event/closed-for-juneteenth/
END:VEVENT
BEGIN:VEVENT
DTSTART;TZID=America/New_York:20230620T143000
DTEND;TZID=America/New_York:20230620T163000
DTSTAMP:20260422T072833
CREATED:20230524T165521Z
LAST-MODIFIED:20230524T165544Z
UID:3608-1687271400-1687278600@marionlib.org
SUMMARY:Summer Reading Kick-Off Party
DESCRIPTION:Celebrate the last day of school and register for our summer reading program\, ALL TOGETHER NOW. \nChildren can register\, make a craft\, receive a calendar of activities\, and a cool treat.
URL:https://marionlib.org/event/summer-reading-kick-off-party-3/
END:VEVENT
BEGIN:VEVENT
DTSTART;TZID=America/New_York:20230620T190000
DTEND;TZID=America/New_York:20230620T200000
DTSTAMP:20260422T072833
CREATED:20230503T195626Z
LAST-MODIFIED:20230503T195626Z
UID:3555-1687287600-1687291200@marionlib.org
SUMMARY:Board of Trustees Meeting
DESCRIPTION:The community is welcome to attend.
URL:https://marionlib.org/event/board-of-trustees-meeting-17/
END:VEVENT
END:VCALENDAR