BEGIN:VCALENDAR
VERSION:2.0
PRODID:-//Marion Public Library - ECPv6.15.20//NONSGML v1.0//EN
CALSCALE:GREGORIAN
METHOD:PUBLISH
X-WR-CALNAME:Marion Public Library
X-ORIGINAL-URL:https://marionlib.org
X-WR-CALDESC:Events for Marion Public Library
REFRESH-INTERVAL;VALUE=DURATION:PT1H
X-Robots-Tag:noindex
X-PUBLISHED-TTL:PT1H
BEGIN:VTIMEZONE
TZID:America/New_York
BEGIN:DAYLIGHT
TZOFFSETFROM:-0500
TZOFFSETTO:-0400
TZNAME:EDT
DTSTART:20220313T070000
END:DAYLIGHT
BEGIN:STANDARD
TZOFFSETFROM:-0400
TZOFFSETTO:-0500
TZNAME:EST
DTSTART:20221106T060000
END:STANDARD
BEGIN:DAYLIGHT
TZOFFSETFROM:-0500
TZOFFSETTO:-0400
TZNAME:EDT
DTSTART:20230312T070000
END:DAYLIGHT
BEGIN:STANDARD
TZOFFSETFROM:-0400
TZOFFSETTO:-0500
TZNAME:EST
DTSTART:20231105T060000
END:STANDARD
BEGIN:DAYLIGHT
TZOFFSETFROM:-0500
TZOFFSETTO:-0400
TZNAME:EDT
DTSTART:20240310T070000
END:DAYLIGHT
BEGIN:STANDARD
TZOFFSETFROM:-0400
TZOFFSETTO:-0500
TZNAME:EST
DTSTART:20241103T060000
END:STANDARD
END:VTIMEZONE
BEGIN:VEVENT
DTSTART;TZID=America/New_York:20230301T103000
DTEND;TZID=America/New_York:20230301T110000
DTSTAMP:20260422T153402
CREATED:20230301T203635Z
LAST-MODIFIED:20230301T205835Z
UID:3393-1677666600-1677668400@marionlib.org
SUMMARY:Preschool StoryTime
DESCRIPTION:
URL:https://marionlib.org/event/toddler-storytime-45/
END:VEVENT
BEGIN:VEVENT
DTSTART;TZID=America/New_York:20230306T103000
DTEND;TZID=America/New_York:20230306T110000
DTSTAMP:20260422T153402
CREATED:20230125T184510Z
LAST-MODIFIED:20230125T184655Z
UID:3233-1678098600-1678100400@marionlib.org
SUMMARY:Toddler StoryTime
DESCRIPTION:
URL:https://marionlib.org/event/toddler-storytime-40/
END:VEVENT
BEGIN:VEVENT
DTSTART;TZID=America/New_York:20230308T100000
DTEND;TZID=America/New_York:20230308T110000
DTSTAMP:20260422T153402
CREATED:20230301T205910Z
LAST-MODIFIED:20230301T205910Z
UID:3397-1678269600-1678273200@marionlib.org
SUMMARY:Preschool StoryTime
DESCRIPTION:
URL:https://marionlib.org/event/preschool-storytime-39/
END:VEVENT
BEGIN:VEVENT
DTSTART;TZID=America/New_York:20230308T183000
DTEND;TZID=America/New_York:20230308T200000
DTSTAMP:20260422T153402
CREATED:20230217T193508Z
LAST-MODIFIED:20230217T193508Z
UID:3290-1678300200-1678305600@marionlib.org
SUMMARY:Book Club
DESCRIPTION:
URL:https://marionlib.org/event/book-club-16/
END:VEVENT
BEGIN:VEVENT
DTSTART;TZID=America/New_York:20230313T103000
DTEND;TZID=America/New_York:20230313T110000
DTSTAMP:20260422T153402
CREATED:20230301T203529Z
LAST-MODIFIED:20230301T203529Z
UID:3389-1678703400-1678705200@marionlib.org
SUMMARY:Toddler StoryTime
DESCRIPTION:
URL:https://marionlib.org/event/toddler-storytime-43/
END:VEVENT
BEGIN:VEVENT
DTSTART;TZID=America/New_York:20230315T103000
DTEND;TZID=America/New_York:20230315T110000
DTSTAMP:20260422T153402
CREATED:20230301T205943Z
LAST-MODIFIED:20230301T205943Z
UID:3399-1678876200-1678878000@marionlib.org
SUMMARY:Preschool StoryTime
DESCRIPTION:
URL:https://marionlib.org/event/preschool-storytime-40/
END:VEVENT
BEGIN:VEVENT
DTSTART;TZID=America/New_York:20230320T103000
DTEND;TZID=America/New_York:20230320T110000
DTSTAMP:20260422T153402
CREATED:20230301T203605Z
LAST-MODIFIED:20230301T203605Z
UID:3391-1679308200-1679310000@marionlib.org
SUMMARY:Toddler StoryTime
DESCRIPTION:
URL:https://marionlib.org/event/toddler-storytime-44/
END:VEVENT
BEGIN:VEVENT
DTSTART;TZID=America/New_York:20230321T190000
DTEND;TZID=America/New_York:20230321T200000
DTSTAMP:20260422T153402
CREATED:20230217T193605Z
LAST-MODIFIED:20230217T193605Z
UID:3293-1679425200-1679428800@marionlib.org
SUMMARY:Board of Trustees Meeting
DESCRIPTION:
URL:https://marionlib.org/event/board-of-trustees-meeting-15/
END:VEVENT
BEGIN:VEVENT
DTSTART;TZID=America/New_York:20230322T103000
DTEND;TZID=America/New_York:20230322T110000
DTSTAMP:20260422T153402
CREATED:20230301T210013Z
LAST-MODIFIED:20230301T210013Z
UID:3401-1679481000-1679482800@marionlib.org
SUMMARY:Preschool StoryTime
DESCRIPTION:
URL:https://marionlib.org/event/preschool-storytime-41/
END:VEVENT
BEGIN:VEVENT
DTSTART;TZID=America/New_York:20230325T090000
DTEND;TZID=America/New_York:20230325T123000
DTSTAMP:20260422T153402
CREATED:20230213T210923Z
LAST-MODIFIED:20230213T210923Z
UID:3277-1679734800-1679747400@marionlib.org
SUMMARY:Water Bath Canning Techniques
DESCRIPTION:
URL:https://marionlib.org/event/water-bath-canning-techniques-2/
END:VEVENT
BEGIN:VEVENT
DTSTART;TZID=America/New_York:20230329T103000
DTEND;TZID=America/New_York:20230329T110000
DTSTAMP:20260422T153402
CREATED:20230301T210040Z
LAST-MODIFIED:20230301T210040Z
UID:3403-1680085800-1680087600@marionlib.org
SUMMARY:Preschool StoryTime
DESCRIPTION:
URL:https://marionlib.org/event/preschool-storytime-42/
END:VEVENT
END:VCALENDAR