BEGIN:VCALENDAR
VERSION:2.0
PRODID:-//Marion Public Library - ECPv6.15.20//NONSGML v1.0//EN
CALSCALE:GREGORIAN
METHOD:PUBLISH
X-WR-CALNAME:Marion Public Library
X-ORIGINAL-URL:https://marionlib.org
X-WR-CALDESC:Events for Marion Public Library
REFRESH-INTERVAL;VALUE=DURATION:PT1H
X-Robots-Tag:noindex
X-PUBLISHED-TTL:PT1H
BEGIN:VTIMEZONE
TZID:America/New_York
BEGIN:DAYLIGHT
TZOFFSETFROM:-0500
TZOFFSETTO:-0400
TZNAME:EDT
DTSTART:20210314T070000
END:DAYLIGHT
BEGIN:STANDARD
TZOFFSETFROM:-0400
TZOFFSETTO:-0500
TZNAME:EST
DTSTART:20211107T060000
END:STANDARD
BEGIN:DAYLIGHT
TZOFFSETFROM:-0500
TZOFFSETTO:-0400
TZNAME:EDT
DTSTART:20220313T070000
END:DAYLIGHT
BEGIN:STANDARD
TZOFFSETFROM:-0400
TZOFFSETTO:-0500
TZNAME:EST
DTSTART:20221106T060000
END:STANDARD
BEGIN:DAYLIGHT
TZOFFSETFROM:-0500
TZOFFSETTO:-0400
TZNAME:EDT
DTSTART:20230312T070000
END:DAYLIGHT
BEGIN:STANDARD
TZOFFSETFROM:-0400
TZOFFSETTO:-0500
TZNAME:EST
DTSTART:20231105T060000
END:STANDARD
END:VTIMEZONE
BEGIN:VEVENT
DTSTART;TZID=America/New_York:20221102T103000
DTEND;TZID=America/New_York:20221102T110000
DTSTAMP:20260422T212351
CREATED:20221027T145057Z
LAST-MODIFIED:20221027T145057Z
UID:3080-1667385000-1667386800@marionlib.org
SUMMARY:Preschool StoryTime
DESCRIPTION:
URL:https://marionlib.org/event/preschool-storytime-22/
END:VEVENT
BEGIN:VEVENT
DTSTART;TZID=America/New_York:20221107T103000
DTEND;TZID=America/New_York:20221107T110000
DTSTAMP:20260422T212351
CREATED:20221027T143925Z
LAST-MODIFIED:20221027T143925Z
UID:3069-1667817000-1667818800@marionlib.org
SUMMARY:Toddler StoryTime
DESCRIPTION:
URL:https://marionlib.org/event/toddler-storytime-30/
END:VEVENT
BEGIN:VEVENT
DTSTART;TZID=America/New_York:20221109T103000
DTEND;TZID=America/New_York:20221109T110000
DTSTAMP:20260422T212351
CREATED:20221027T145150Z
LAST-MODIFIED:20221027T145150Z
UID:3082-1667989800-1667991600@marionlib.org
SUMMARY:Preschool StoryTime
DESCRIPTION:
URL:https://marionlib.org/event/preschool-storytime-23/
END:VEVENT
BEGIN:VEVENT
DTSTART;TZID=America/New_York:20221109T183000
DTEND;TZID=America/New_York:20221109T200000
DTSTAMP:20260422T212351
CREATED:20221027T145739Z
LAST-MODIFIED:20221027T145739Z
UID:3090-1668018600-1668024000@marionlib.org
SUMMARY:Book Club
DESCRIPTION:
URL:https://marionlib.org/event/book-club-14/
END:VEVENT
BEGIN:VEVENT
DTSTART;VALUE=DATE:20221111
DTEND;VALUE=DATE:20221112
DTSTAMP:20260422T212351
CREATED:20221027T144709Z
LAST-MODIFIED:20221027T144801Z
UID:3078-1668124800-1668211199@marionlib.org
SUMMARY:Closed Veterans Day
DESCRIPTION:
URL:https://marionlib.org/event/closed-veterans-day-2/
END:VEVENT
BEGIN:VEVENT
DTSTART;TZID=America/New_York:20221114T103000
DTEND;TZID=America/New_York:20221114T110000
DTSTAMP:20260422T212351
CREATED:20221027T144040Z
LAST-MODIFIED:20221027T144040Z
UID:3071-1668421800-1668423600@marionlib.org
SUMMARY:Toddler StoryTime
DESCRIPTION:
URL:https://marionlib.org/event/toddler-storytime-31/
END:VEVENT
BEGIN:VEVENT
DTSTART;TZID=America/New_York:20221114T170000
DTEND;TZID=America/New_York:20221114T180000
DTSTAMP:20260422T212351
CREATED:20221027T170842Z
LAST-MODIFIED:20221027T171833Z
UID:3103-1668445200-1668448800@marionlib.org
SUMMARY:Type 2 Diabetes Information Session
DESCRIPTION:Are you at risk for Type 2 Diabetes? \nFinger Lakes Community Action \nPrevent T2 Flyer_Marion Library_info session
URL:https://marionlib.org/event/type-2-diabetes-information-session/
END:VEVENT
BEGIN:VEVENT
DTSTART;TZID=America/New_York:20221115T190000
DTEND;TZID=America/New_York:20221115T200000
DTSTAMP:20260422T212351
CREATED:20220926T162536Z
LAST-MODIFIED:20220926T162536Z
UID:3021-1668538800-1668542400@marionlib.org
SUMMARY:Board of Trustees Meeting
DESCRIPTION:
URL:https://marionlib.org/event/board-of-trustees-meeting-12/
END:VEVENT
BEGIN:VEVENT
DTSTART;TZID=America/New_York:20221116T103000
DTEND;TZID=America/New_York:20221116T110000
DTSTAMP:20260422T212351
CREATED:20221027T145253Z
LAST-MODIFIED:20221027T145253Z
UID:3084-1668594600-1668596400@marionlib.org
SUMMARY:Preschool StoryTime
DESCRIPTION:
URL:https://marionlib.org/event/preschool-storytime-24/
END:VEVENT
BEGIN:VEVENT
DTSTART;TZID=America/New_York:20221118T093000
DTEND;TZID=America/New_York:20221118T160000
DTSTAMP:20260422T212351
CREATED:20221027T152233Z
LAST-MODIFIED:20221027T152818Z
UID:3093-1668763800-1668787200@marionlib.org
SUMMARY:RRH Mobile Mammogram
DESCRIPTION:Rochester Regional Health Mobile Mammography Center has the same state-of-the-art technology and certified mammography technologists you would find at any of our breast imaging centers. \nOur goal is to make screening simple and accessible. The mobile mammography center will be visiting the Marion Public Library. Call 585-922-PINK or 585-353-8559 with questions.
URL:https://marionlib.org/event/rrh-mobile-mammogram/
END:VEVENT
BEGIN:VEVENT
DTSTART;TZID=America/New_York:20221121T103000
DTEND;TZID=America/New_York:20221121T110000
DTSTAMP:20260422T212351
CREATED:20221027T144141Z
LAST-MODIFIED:20221027T144141Z
UID:3073-1669026600-1669028400@marionlib.org
SUMMARY:Toddler StoryTime
DESCRIPTION:
URL:https://marionlib.org/event/toddler-storytime-32/
END:VEVENT
BEGIN:VEVENT
DTSTART;TZID=America/New_York:20221123T103000
DTEND;TZID=America/New_York:20221123T110000
DTSTAMP:20260422T212351
CREATED:20221027T145351Z
LAST-MODIFIED:20221027T145351Z
UID:3086-1669199400-1669201200@marionlib.org
SUMMARY:Preschool StoryTime
DESCRIPTION:
URL:https://marionlib.org/event/preschool-storytime-25/
END:VEVENT
BEGIN:VEVENT
DTSTART;TZID=America/New_York:20221128T103000
DTEND;TZID=America/New_York:20221128T110000
DTSTAMP:20260422T212351
CREATED:20221027T144317Z
LAST-MODIFIED:20221027T144317Z
UID:3075-1669631400-1669633200@marionlib.org
SUMMARY:Toddler StoryTime
DESCRIPTION:
URL:https://marionlib.org/event/toddler-storytime-33/
END:VEVENT
BEGIN:VEVENT
DTSTART;TZID=America/New_York:20221130T103000
DTEND;TZID=America/New_York:20221130T110000
DTSTAMP:20260422T212351
CREATED:20221027T145437Z
LAST-MODIFIED:20221027T145437Z
UID:3088-1669804200-1669806000@marionlib.org
SUMMARY:Preschool StoryTime
DESCRIPTION:
URL:https://marionlib.org/event/preschool-storytime-26/
END:VEVENT
END:VCALENDAR