BEGIN:VCALENDAR
VERSION:2.0
PRODID:-//Marion Public Library - ECPv6.15.20//NONSGML v1.0//EN
CALSCALE:GREGORIAN
METHOD:PUBLISH
X-ORIGINAL-URL:https://marionlib.org
X-WR-CALDESC:Events for Marion Public Library
REFRESH-INTERVAL;VALUE=DURATION:PT1H
X-Robots-Tag:noindex
X-PUBLISHED-TTL:PT1H
BEGIN:VTIMEZONE
TZID:America/New_York
BEGIN:DAYLIGHT
TZOFFSETFROM:-0500
TZOFFSETTO:-0400
TZNAME:EDT
DTSTART:20210314T070000
END:DAYLIGHT
BEGIN:STANDARD
TZOFFSETFROM:-0400
TZOFFSETTO:-0500
TZNAME:EST
DTSTART:20211107T060000
END:STANDARD
BEGIN:DAYLIGHT
TZOFFSETFROM:-0500
TZOFFSETTO:-0400
TZNAME:EDT
DTSTART:20220313T070000
END:DAYLIGHT
BEGIN:STANDARD
TZOFFSETFROM:-0400
TZOFFSETTO:-0500
TZNAME:EST
DTSTART:20221106T060000
END:STANDARD
BEGIN:DAYLIGHT
TZOFFSETFROM:-0500
TZOFFSETTO:-0400
TZNAME:EDT
DTSTART:20230312T070000
END:DAYLIGHT
BEGIN:STANDARD
TZOFFSETFROM:-0400
TZOFFSETTO:-0500
TZNAME:EST
DTSTART:20231105T060000
END:STANDARD
END:VTIMEZONE
BEGIN:VEVENT
DTSTART;TZID=America/New_York:20221003T103000
DTEND;TZID=America/New_York:20221003T110000
DTSTAMP:20260422T224740
CREATED:20220926T155800Z
LAST-MODIFIED:20220926T155800Z
UID:2998-1664793000-1664794800@marionlib.org
SUMMARY:Toddler StoryTime
DESCRIPTION:
URL:https://marionlib.org/event/toddler-storytime-26/
END:VEVENT
BEGIN:VEVENT
DTSTART;TZID=America/New_York:20221003T183000
DTEND;TZID=America/New_York:20221003T193000
DTSTAMP:20260422T224740
CREATED:20220826T210823Z
LAST-MODIFIED:20220826T210823Z
UID:2957-1664821800-1664825400@marionlib.org
SUMMARY:Sunset Yoga
DESCRIPTION:
URL:https://marionlib.org/event/sunset-yoga-4/
END:VEVENT
BEGIN:VEVENT
DTSTART;TZID=America/New_York:20221005T103000
DTEND;TZID=America/New_York:20221005T110000
DTSTAMP:20260422T224740
CREATED:20220926T162021Z
LAST-MODIFIED:20220926T162021Z
UID:3009-1664965800-1664967600@marionlib.org
SUMMARY:Preschool StoryTime
DESCRIPTION:
URL:https://marionlib.org/event/preschool-storytime-18/
END:VEVENT
BEGIN:VEVENT
DTSTART;TZID=America/New_York:20221007T143000
DTEND;TZID=America/New_York:20221007T163000
DTSTAMP:20260422T224740
CREATED:20220926T165523Z
LAST-MODIFIED:20220926T165523Z
UID:3023-1665153000-1665160200@marionlib.org
SUMMARY:Cards & Games for Seniors
DESCRIPTION:
URL:https://marionlib.org/event/cards-games-for-seniors/
END:VEVENT
BEGIN:VEVENT
DTSTART;VALUE=DATE:20221010
DTEND;VALUE=DATE:20221011
DTSTAMP:20260422T224740
CREATED:20220926T161753Z
LAST-MODIFIED:20220926T161753Z
UID:3006-1665360000-1665446399@marionlib.org
SUMMARY:CLOSED Columbus Day - Indigenous Peoples Day
DESCRIPTION:
URL:https://marionlib.org/event/closed-columbus-day-indigenous-peoples-day/
END:VEVENT
BEGIN:VEVENT
DTSTART;TZID=America/New_York:20221012T103000
DTEND;TZID=America/New_York:20221012T110000
DTSTAMP:20260422T224740
CREATED:20220926T162101Z
LAST-MODIFIED:20220926T162101Z
UID:3011-1665570600-1665572400@marionlib.org
SUMMARY:Preschool StoryTime
DESCRIPTION:
URL:https://marionlib.org/event/preschool-storytime-19/
END:VEVENT
BEGIN:VEVENT
DTSTART;TZID=America/New_York:20221012T183000
DTEND;TZID=America/New_York:20221012T200000
DTSTAMP:20260422T224740
CREATED:20220926T162351Z
LAST-MODIFIED:20220926T162351Z
UID:3017-1665599400-1665604800@marionlib.org
SUMMARY:Book Club
DESCRIPTION:
URL:https://marionlib.org/event/book-club-13/
END:VEVENT
BEGIN:VEVENT
DTSTART;TZID=America/New_York:20221017T103000
DTEND;TZID=America/New_York:20221017T110000
DTSTAMP:20260422T224740
CREATED:20220926T155912Z
LAST-MODIFIED:20220926T155912Z
UID:3000-1666002600-1666004400@marionlib.org
SUMMARY:Toddler Storytime
DESCRIPTION:
URL:https://marionlib.org/event/toddler-storytime-27/
END:VEVENT
BEGIN:VEVENT
DTSTART;TZID=America/New_York:20221018T190000
DTEND;TZID=America/New_York:20221018T200000
DTSTAMP:20260422T224740
CREATED:20220926T162447Z
LAST-MODIFIED:20220926T162447Z
UID:3019-1666119600-1666123200@marionlib.org
SUMMARY:Board of Trustees Meeting
DESCRIPTION:
URL:https://marionlib.org/event/board-of-trustees-meeting-11/
END:VEVENT
BEGIN:VEVENT
DTSTART;TZID=America/New_York:20221019T103000
DTEND;TZID=America/New_York:20221019T110000
DTSTAMP:20260422T224740
CREATED:20220926T162129Z
LAST-MODIFIED:20220926T162129Z
UID:3013-1666175400-1666177200@marionlib.org
SUMMARY:Preschool StoryTime
DESCRIPTION:
URL:https://marionlib.org/event/preschool-storytime-20/
END:VEVENT
BEGIN:VEVENT
DTSTART;TZID=America/New_York:20221024T103000
DTEND;TZID=America/New_York:20221024T110000
DTSTAMP:20260422T224740
CREATED:20220926T160425Z
LAST-MODIFIED:20220926T160425Z
UID:3004-1666607400-1666609200@marionlib.org
SUMMARY:toddler StoryTime
DESCRIPTION:
URL:https://marionlib.org/event/toddler-storytime-29/
END:VEVENT
BEGIN:VEVENT
DTSTART;TZID=America/New_York:20221026T103000
DTEND;TZID=America/New_York:20221026T110000
DTSTAMP:20260422T224740
CREATED:20220926T162158Z
LAST-MODIFIED:20221019T155457Z
UID:3015-1666780200-1666782000@marionlib.org
SUMMARY:Preschool StoryTime
DESCRIPTION:
URL:https://marionlib.org/event/preschool-storytime-21/
END:VEVENT
BEGIN:VEVENT
DTSTART;TZID=America/New_York:20221031T103000
DTEND;TZID=America/New_York:20221031T110000
DTSTAMP:20260422T224740
CREATED:20220926T160007Z
LAST-MODIFIED:20221019T155431Z
UID:3002-1667212200-1667214000@marionlib.org
SUMMARY:Toddler StoryTime
DESCRIPTION:
URL:https://marionlib.org/event/toddler-storytime-28/
END:VEVENT
END:VCALENDAR