BEGIN:VCALENDAR
VERSION:2.0
PRODID:-//Marion Public Library - ECPv6.15.20//NONSGML v1.0//EN
CALSCALE:GREGORIAN
METHOD:PUBLISH
X-WR-CALNAME:Marion Public Library
X-ORIGINAL-URL:https://marionlib.org
X-WR-CALDESC:Events for Marion Public Library
REFRESH-INTERVAL;VALUE=DURATION:PT1H
X-Robots-Tag:noindex
X-PUBLISHED-TTL:PT1H
BEGIN:VTIMEZONE
TZID:America/New_York
BEGIN:DAYLIGHT
TZOFFSETFROM:-0500
TZOFFSETTO:-0400
TZNAME:EDT
DTSTART:20210314T070000
END:DAYLIGHT
BEGIN:STANDARD
TZOFFSETFROM:-0400
TZOFFSETTO:-0500
TZNAME:EST
DTSTART:20211107T060000
END:STANDARD
BEGIN:DAYLIGHT
TZOFFSETFROM:-0500
TZOFFSETTO:-0400
TZNAME:EDT
DTSTART:20220313T070000
END:DAYLIGHT
BEGIN:STANDARD
TZOFFSETFROM:-0400
TZOFFSETTO:-0500
TZNAME:EST
DTSTART:20221106T060000
END:STANDARD
BEGIN:DAYLIGHT
TZOFFSETFROM:-0500
TZOFFSETTO:-0400
TZNAME:EDT
DTSTART:20230312T070000
END:DAYLIGHT
BEGIN:STANDARD
TZOFFSETFROM:-0400
TZOFFSETTO:-0500
TZNAME:EST
DTSTART:20231105T060000
END:STANDARD
END:VTIMEZONE
BEGIN:VEVENT
DTSTART;TZID=America/New_York:20220909T140000
DTEND;TZID=America/New_York:20220909T180000
DTSTAMP:20260423T001356
CREATED:20220810T174529Z
LAST-MODIFIED:20220810T175328Z
UID:2910-1662732000-1662746400@marionlib.org
SUMMARY:Baked Goods Drop-Off
DESCRIPTION:Please bring pies or other baked goods to the library by 6:00 PM\, closing time.
URL:https://marionlib.org/event/baked-goods-drop-off/
END:VEVENT
BEGIN:VEVENT
DTSTART;TZID=America/New_York:20220910T090000
DTEND;TZID=America/New_York:20220910T150000
DTSTAMP:20260423T001356
CREATED:20220803T170814Z
LAST-MODIFIED:20220803T170814Z
UID:2894-1662800400-1662822000@marionlib.org
SUMMARY:Book & Pie Sale
DESCRIPTION:Book and Pie Sale to benefit our Friends of the Library group\, which helps to support us in many ways including summer programs\, adult programs\, early literacy play equipment\, furniture and craft supplies. \nSaturday\, September 10\, 2022 \n9:00 AM – 3:00 PM
URL:https://marionlib.org/event/book-pie-sale/
END:VEVENT
BEGIN:VEVENT
DTSTART;TZID=America/New_York:20220912T103000
DTEND;TZID=America/New_York:20220912T110000
DTSTAMP:20260423T001356
CREATED:20220810T174920Z
LAST-MODIFIED:20220810T174920Z
UID:2912-1662978600-1662980400@marionlib.org
SUMMARY:Toddler StoryTime
DESCRIPTION:
URL:https://marionlib.org/event/toddler-storytime-23/
END:VEVENT
BEGIN:VEVENT
DTSTART;TZID=America/New_York:20220912T183000
DTEND;TZID=America/New_York:20220912T193000
DTSTAMP:20260423T001356
CREATED:20220826T210634Z
LAST-MODIFIED:20220826T210634Z
UID:2950-1663007400-1663011000@marionlib.org
SUMMARY:Sunset Yoga
DESCRIPTION:
URL:https://marionlib.org/event/sunset-yoga/
END:VEVENT
BEGIN:VEVENT
DTSTART;TZID=America/New_York:20220914T103000
DTEND;TZID=America/New_York:20220914T113000
DTSTAMP:20260423T001356
CREATED:20220810T175128Z
LAST-MODIFIED:20220810T175128Z
UID:2918-1663151400-1663155000@marionlib.org
SUMMARY:Preschool StoryTime
DESCRIPTION:
URL:https://marionlib.org/event/preschool-storytime-15/
END:VEVENT
BEGIN:VEVENT
DTSTART;TZID=America/New_York:20220914T183000
DTEND;TZID=America/New_York:20220914T200000
DTSTAMP:20260423T001356
CREATED:20220810T175616Z
LAST-MODIFIED:20220810T182325Z
UID:2926-1663180200-1663185600@marionlib.org
SUMMARY:Book Club
DESCRIPTION:
URL:https://marionlib.org/event/book-club-12/
END:VEVENT
BEGIN:VEVENT
DTSTART;TZID=America/New_York:20220919T103000
DTEND;TZID=America/New_York:20220919T113000
DTSTAMP:20260423T001356
CREATED:20220810T175002Z
LAST-MODIFIED:20220810T175002Z
UID:2914-1663583400-1663587000@marionlib.org
SUMMARY:Toddler StoryTime
DESCRIPTION:
URL:https://marionlib.org/event/toddler-storytime-24/
END:VEVENT
BEGIN:VEVENT
DTSTART;TZID=America/New_York:20220919T183000
DTEND;TZID=America/New_York:20220919T193000
DTSTAMP:20260423T001356
CREATED:20220826T210706Z
LAST-MODIFIED:20220919T184556Z
UID:2953-1663612200-1663615800@marionlib.org
SUMMARY:Sunset Yoga Canceled Today
DESCRIPTION:
URL:https://marionlib.org/event/sunset-yoga-2/
END:VEVENT
BEGIN:VEVENT
DTSTART;TZID=America/New_York:20220920T190000
DTEND;TZID=America/New_York:20220920T200000
DTSTAMP:20260423T001356
CREATED:20220810T175524Z
LAST-MODIFIED:20220810T175524Z
UID:2924-1663700400-1663704000@marionlib.org
SUMMARY:Board of Trustees Meeting
DESCRIPTION:The community is always welcome to attend.
URL:https://marionlib.org/event/board-of-trustees-meeting-10/
END:VEVENT
BEGIN:VEVENT
DTSTART;TZID=America/New_York:20220921T103000
DTEND;TZID=America/New_York:20220921T110000
DTSTAMP:20260423T001356
CREATED:20220810T175158Z
LAST-MODIFIED:20220810T175158Z
UID:2920-1663756200-1663758000@marionlib.org
SUMMARY:Preschool StoryTime
DESCRIPTION:
URL:https://marionlib.org/event/preschool-storytime-16/
END:VEVENT
BEGIN:VEVENT
DTSTART;TZID=America/New_York:20220926T103000
DTEND;TZID=America/New_York:20220926T110000
DTSTAMP:20260423T001356
CREATED:20220810T175037Z
LAST-MODIFIED:20220810T175037Z
UID:2916-1664188200-1664190000@marionlib.org
SUMMARY:Toddler StoryTime
DESCRIPTION:
URL:https://marionlib.org/event/toddler-storytime-25/
END:VEVENT
BEGIN:VEVENT
DTSTART;TZID=America/New_York:20220926T183000
DTEND;TZID=America/New_York:20220926T193000
DTSTAMP:20260423T001356
CREATED:20220826T210743Z
LAST-MODIFIED:20220826T210743Z
UID:2955-1664217000-1664220600@marionlib.org
SUMMARY:Sunset Yoga
DESCRIPTION:
URL:https://marionlib.org/event/sunset-yoga-3/
END:VEVENT
BEGIN:VEVENT
DTSTART;TZID=America/New_York:20220928T103000
DTEND;TZID=America/New_York:20220928T110000
DTSTAMP:20260423T001356
CREATED:20220810T175226Z
LAST-MODIFIED:20220810T175231Z
UID:2922-1664361000-1664362800@marionlib.org
SUMMARY:Preschool StoryTime
DESCRIPTION:
URL:https://marionlib.org/event/preschool-storytime-17/
END:VEVENT
END:VCALENDAR