BEGIN:VCALENDAR
VERSION:2.0
PRODID:-//Marion Public Library - ECPv6.15.20//NONSGML v1.0//EN
CALSCALE:GREGORIAN
METHOD:PUBLISH
X-WR-CALNAME:Marion Public Library
X-ORIGINAL-URL:https://marionlib.org
X-WR-CALDESC:Events for Marion Public Library
REFRESH-INTERVAL;VALUE=DURATION:PT1H
X-Robots-Tag:noindex
X-PUBLISHED-TTL:PT1H
BEGIN:VTIMEZONE
TZID:America/New_York
BEGIN:DAYLIGHT
TZOFFSETFROM:-0500
TZOFFSETTO:-0400
TZNAME:EDT
DTSTART:20210314T070000
END:DAYLIGHT
BEGIN:STANDARD
TZOFFSETFROM:-0400
TZOFFSETTO:-0500
TZNAME:EST
DTSTART:20211107T060000
END:STANDARD
BEGIN:DAYLIGHT
TZOFFSETFROM:-0500
TZOFFSETTO:-0400
TZNAME:EDT
DTSTART:20220313T070000
END:DAYLIGHT
BEGIN:STANDARD
TZOFFSETFROM:-0400
TZOFFSETTO:-0500
TZNAME:EST
DTSTART:20221106T060000
END:STANDARD
BEGIN:DAYLIGHT
TZOFFSETFROM:-0500
TZOFFSETTO:-0400
TZNAME:EDT
DTSTART:20230312T070000
END:DAYLIGHT
BEGIN:STANDARD
TZOFFSETFROM:-0400
TZOFFSETTO:-0500
TZNAME:EST
DTSTART:20231105T060000
END:STANDARD
END:VTIMEZONE
BEGIN:VEVENT
DTSTART;TZID=America/New_York:20220801T103000
DTEND;TZID=America/New_York:20220801T110000
DTSTAMP:20260423T014900
CREATED:20220607T220845Z
LAST-MODIFIED:20220607T220848Z
UID:2828-1659349800-1659351600@marionlib.org
SUMMARY:Toddler Storytime
DESCRIPTION:
URL:https://marionlib.org/event/toddler-storytime-22/
END:VEVENT
BEGIN:VEVENT
DTSTART;TZID=America/New_York:20220803T190000
DTEND;TZID=America/New_York:20220803T193000
DTSTAMP:20260423T014900
CREATED:20220607T214947Z
LAST-MODIFIED:20220607T215029Z
UID:2806-1659553200-1659555000@marionlib.org
SUMMARY:PJ Storytime
DESCRIPTION:Enjoy stories and sing along fun. Children are invited to wear PJs and bring a pillow\, blanket or favorite stuffed toy with them.
URL:https://marionlib.org/event/pj-storytime-5/
END:VEVENT
BEGIN:VEVENT
DTSTART;TZID=America/New_York:20220804T143000
DTEND;TZID=America/New_York:20220804T163000
DTSTAMP:20260423T014900
CREATED:20220622T213024Z
LAST-MODIFIED:20220622T213024Z
UID:2855-1659623400-1659630600@marionlib.org
SUMMARY:LEGO® Block Party
DESCRIPTION:Kids are invited to spend an afternoon making their own creations while visiting with old friends and making new ones. Everyone is welcome – Lego® bricks will be provided by the library.
URL:https://marionlib.org/event/lego-block-party-2/
END:VEVENT
BEGIN:VEVENT
DTSTART;TZID=America/New_York:20220805T143000
DTEND;TZID=America/New_York:20220805T163000
DTSTAMP:20260423T014900
CREATED:20220504T204304Z
LAST-MODIFIED:20220504T204304Z
UID:2741-1659709800-1659717000@marionlib.org
SUMMARY:Card & Games Club For Seniors
DESCRIPTION:First Friday of each month. Bring a deck of cards and/or a board game to share.
URL:https://marionlib.org/event/card-games-club-for-seniors-4/
END:VEVENT
BEGIN:VEVENT
DTSTART;TZID=America/New_York:20220806T093000
DTEND;TZID=America/New_York:20220806T103000
DTSTAMP:20260423T014900
CREATED:20220803T163811Z
LAST-MODIFIED:20220803T163811Z
UID:2886-1659778200-1659781800@marionlib.org
SUMMARY:Yoga
DESCRIPTION:Yoga sessions will continue each Saturday in August. With our summer program budget we were able to present this summer program for free in June and July. Moving forward\, participants are asked to pay what they can. Suggested contribution: $5-$10
URL:https://marionlib.org/event/yoga/
END:VEVENT
BEGIN:VEVENT
DTSTART;TZID=America/New_York:20220810T183000
DTEND;TZID=America/New_York:20220810T200000
DTSTAMP:20260423T014900
CREATED:20220726T200752Z
LAST-MODIFIED:20220726T200752Z
UID:2873-1660156200-1660161600@marionlib.org
SUMMARY:Book Club
DESCRIPTION:
URL:https://marionlib.org/event/book-club-11/
END:VEVENT
BEGIN:VEVENT
DTSTART;TZID=America/New_York:20220813T093000
DTEND;TZID=America/New_York:20220813T103000
DTSTAMP:20260423T014900
CREATED:20220803T163843Z
LAST-MODIFIED:20220803T163854Z
UID:2888-1660383000-1660386600@marionlib.org
SUMMARY:Yoga
DESCRIPTION:Yoga sessions will continue each Saturday in August. With our summer program budget we were able to present this summer program for free in June and July. Moving forward\, participants are asked to pay what they can. Suggested contribution: $5-$10
URL:https://marionlib.org/event/yoga-2/
END:VEVENT
BEGIN:VEVENT
DTSTART;TZID=America/New_York:20220816T190000
DTEND;TZID=America/New_York:20220816T200000
DTSTAMP:20260423T014900
CREATED:20220726T200652Z
LAST-MODIFIED:20220726T200652Z
UID:2871-1660676400-1660680000@marionlib.org
SUMMARY:Board of Trustees Meeting
DESCRIPTION:The community is always welcome to attend.
URL:https://marionlib.org/event/board-of-trustees-meeting-9/
END:VEVENT
BEGIN:VEVENT
DTSTART;TZID=America/New_York:20220820T093000
DTEND;TZID=America/New_York:20220820T103000
DTSTAMP:20260423T014900
CREATED:20220803T170058Z
LAST-MODIFIED:20220803T170058Z
UID:2892-1660987800-1660991400@marionlib.org
SUMMARY:Yoga
DESCRIPTION:Yoga sessions will continue each Saturday in August. With our summer program budget we were able to present this summer program for free in June and July. Moving forward\, participants are asked to pay what they can. Suggested contribution: $5-$10
URL:https://marionlib.org/event/yoga-4/
END:VEVENT
BEGIN:VEVENT
DTSTART;TZID=America/New_York:20220827T093000
DTEND;TZID=America/New_York:20220827T103000
DTSTAMP:20260423T014900
CREATED:20220803T163929Z
LAST-MODIFIED:20220803T164917Z
UID:2890-1661592600-1661596200@marionlib.org
SUMMARY:Yoga
DESCRIPTION:Yoga sessions will continue each Saturday in August. With our summer program budget we were able to present this summer program for free in June and July. Moving forward\, participants are asked to pay what they can. Suggested contribution: $5-$10
URL:https://marionlib.org/event/yoga-3/
END:VEVENT
END:VCALENDAR