BEGIN:VCALENDAR
VERSION:2.0
PRODID:-//Marion Public Library - ECPv6.15.20//NONSGML v1.0//EN
CALSCALE:GREGORIAN
METHOD:PUBLISH
X-ORIGINAL-URL:https://marionlib.org
X-WR-CALDESC:Events for Marion Public Library
REFRESH-INTERVAL;VALUE=DURATION:PT1H
X-Robots-Tag:noindex
X-PUBLISHED-TTL:PT1H
BEGIN:VTIMEZONE
TZID:America/New_York
BEGIN:DAYLIGHT
TZOFFSETFROM:-0500
TZOFFSETTO:-0400
TZNAME:EDT
DTSTART:20210314T070000
END:DAYLIGHT
BEGIN:STANDARD
TZOFFSETFROM:-0400
TZOFFSETTO:-0500
TZNAME:EST
DTSTART:20211107T060000
END:STANDARD
BEGIN:DAYLIGHT
TZOFFSETFROM:-0500
TZOFFSETTO:-0400
TZNAME:EDT
DTSTART:20220313T070000
END:DAYLIGHT
BEGIN:STANDARD
TZOFFSETFROM:-0400
TZOFFSETTO:-0500
TZNAME:EST
DTSTART:20221106T060000
END:STANDARD
BEGIN:DAYLIGHT
TZOFFSETFROM:-0500
TZOFFSETTO:-0400
TZNAME:EDT
DTSTART:20230312T070000
END:DAYLIGHT
BEGIN:STANDARD
TZOFFSETFROM:-0400
TZOFFSETTO:-0500
TZNAME:EST
DTSTART:20231105T060000
END:STANDARD
END:VTIMEZONE
BEGIN:VEVENT
DTSTART;TZID=America/New_York:20220502T103000
DTEND;TZID=America/New_York:20220502T110000
DTSTAMP:20260423T061308
CREATED:20220420T181446Z
LAST-MODIFIED:20220420T181446Z
UID:2660-1651487400-1651489200@marionlib.org
SUMMARY:Toddler Storytime
DESCRIPTION:
URL:https://marionlib.org/event/toddler-storytime-16/
END:VEVENT
BEGIN:VEVENT
DTSTART;TZID=America/New_York:20220504T110000
DTEND;TZID=America/New_York:20220504T113000
DTSTAMP:20260423T061308
CREATED:20220420T182008Z
LAST-MODIFIED:20220420T182008Z
UID:2668-1651662000-1651663800@marionlib.org
SUMMARY:Preschool Storytime
DESCRIPTION:
URL:https://marionlib.org/event/preschool-storytime-11/
END:VEVENT
BEGIN:VEVENT
DTSTART;TZID=America/New_York:20220506T143000
DTEND;TZID=America/New_York:20220506T163000
DTSTAMP:20260423T061308
CREATED:20220425T194122Z
LAST-MODIFIED:20220425T194122Z
UID:2684-1651847400-1651854600@marionlib.org
SUMMARY:Card & Games Club For Seniors
DESCRIPTION:First Friday of each month. Bring a deck of cards and/or a board game to share.
URL:https://marionlib.org/event/card-games-club-for-seniors/
END:VEVENT
BEGIN:VEVENT
DTSTART;TZID=America/New_York:20220509T103000
DTEND;TZID=America/New_York:20220509T110000
DTSTAMP:20260423T061308
CREATED:20220420T181520Z
LAST-MODIFIED:20220420T181520Z
UID:2662-1652092200-1652094000@marionlib.org
SUMMARY:Toddler Storytime
DESCRIPTION:
URL:https://marionlib.org/event/toddler-storytime-17/
END:VEVENT
BEGIN:VEVENT
DTSTART;TZID=America/New_York:20220511T110000
DTEND;TZID=America/New_York:20220511T113000
DTSTAMP:20260423T061308
CREATED:20220420T182042Z
LAST-MODIFIED:20220420T182042Z
UID:2670-1652266800-1652268600@marionlib.org
SUMMARY:Preschool Storytime
DESCRIPTION:
URL:https://marionlib.org/event/preschool-storytime-12/
END:VEVENT
BEGIN:VEVENT
DTSTART;TZID=America/New_York:20220511T183000
DTEND;TZID=America/New_York:20220511T200000
DTSTAMP:20260423T061308
CREATED:20220420T182502Z
LAST-MODIFIED:20220420T182502Z
UID:2678-1652293800-1652299200@marionlib.org
SUMMARY:Book Club
DESCRIPTION:
URL:https://marionlib.org/event/book-club-8/
END:VEVENT
BEGIN:VEVENT
DTSTART;TZID=America/New_York:20220516T103000
DTEND;TZID=America/New_York:20220516T110000
DTSTAMP:20260423T061308
CREATED:20220420T181630Z
LAST-MODIFIED:20220420T181630Z
UID:2664-1652697000-1652698800@marionlib.org
SUMMARY:Toddler Storytime
DESCRIPTION:
URL:https://marionlib.org/event/toddler-storytime-18/
END:VEVENT
BEGIN:VEVENT
DTSTART;TZID=America/New_York:20220517T190000
DTEND;TZID=America/New_York:20220517T200000
DTSTAMP:20260423T061308
CREATED:20220420T182357Z
LAST-MODIFIED:20220420T182357Z
UID:2676-1652814000-1652817600@marionlib.org
SUMMARY:Board of Trustees
DESCRIPTION:The community is always welcome to attend.
URL:https://marionlib.org/event/board-of-trustees-6/
END:VEVENT
BEGIN:VEVENT
DTSTART;TZID=America/New_York:20220518T110000
DTEND;TZID=America/New_York:20220518T113000
DTSTAMP:20260423T061308
CREATED:20220420T182129Z
LAST-MODIFIED:20220420T182129Z
UID:2672-1652871600-1652873400@marionlib.org
SUMMARY:Preschool Storytime
DESCRIPTION:
URL:https://marionlib.org/event/preschool-storytime-13/
END:VEVENT
BEGIN:VEVENT
DTSTART;TZID=America/New_York:20220523T103000
DTEND;TZID=America/New_York:20220523T110000
DTSTAMP:20260423T061308
CREATED:20220420T181700Z
LAST-MODIFIED:20220420T181807Z
UID:2666-1653301800-1653303600@marionlib.org
SUMMARY:Toddler Storytime
DESCRIPTION:
URL:https://marionlib.org/event/toddler-storytime-19/
END:VEVENT
BEGIN:VEVENT
DTSTART;TZID=America/New_York:20220525T110000
DTEND;TZID=America/New_York:20220525T113000
DTSTAMP:20260423T061308
CREATED:20220420T182201Z
LAST-MODIFIED:20220420T182201Z
UID:2674-1653476400-1653478200@marionlib.org
SUMMARY:Preschool Storytime
DESCRIPTION:
URL:https://marionlib.org/event/preschool-storytime-14/
END:VEVENT
BEGIN:VEVENT
DTSTART;VALUE=DATE:20220528
DTEND;VALUE=DATE:20220529
DTSTAMP:20260423T061308
CREATED:20220426T190118Z
LAST-MODIFIED:20220426T190118Z
UID:2691-1653696000-1653782399@marionlib.org
SUMMARY:Closed
DESCRIPTION:Closed for Memorial Weekend
URL:https://marionlib.org/event/closed-6/
END:VEVENT
BEGIN:VEVENT
DTSTART;VALUE=DATE:20220530
DTEND;VALUE=DATE:20220531
DTSTAMP:20260423T061308
CREATED:20220426T190135Z
LAST-MODIFIED:20220426T190135Z
UID:2693-1653868800-1653955199@marionlib.org
SUMMARY:Closed
DESCRIPTION:
URL:https://marionlib.org/event/closed-7/
END:VEVENT
END:VCALENDAR