BEGIN:VCALENDAR
VERSION:2.0
PRODID:-//Marion Public Library - ECPv6.15.20//NONSGML v1.0//EN
CALSCALE:GREGORIAN
METHOD:PUBLISH
X-ORIGINAL-URL:https://marionlib.org
X-WR-CALDESC:Events for Marion Public Library
REFRESH-INTERVAL;VALUE=DURATION:PT1H
X-Robots-Tag:noindex
X-PUBLISHED-TTL:PT1H
BEGIN:VTIMEZONE
TZID:America/New_York
BEGIN:DAYLIGHT
TZOFFSETFROM:-0500
TZOFFSETTO:-0400
TZNAME:EDT
DTSTART:20210314T070000
END:DAYLIGHT
BEGIN:STANDARD
TZOFFSETFROM:-0400
TZOFFSETTO:-0500
TZNAME:EST
DTSTART:20211107T060000
END:STANDARD
BEGIN:DAYLIGHT
TZOFFSETFROM:-0500
TZOFFSETTO:-0400
TZNAME:EDT
DTSTART:20220313T070000
END:DAYLIGHT
BEGIN:STANDARD
TZOFFSETFROM:-0400
TZOFFSETTO:-0500
TZNAME:EST
DTSTART:20221106T060000
END:STANDARD
BEGIN:DAYLIGHT
TZOFFSETFROM:-0500
TZOFFSETTO:-0400
TZNAME:EDT
DTSTART:20230312T070000
END:DAYLIGHT
BEGIN:STANDARD
TZOFFSETFROM:-0400
TZOFFSETTO:-0500
TZNAME:EST
DTSTART:20231105T060000
END:STANDARD
END:VTIMEZONE
BEGIN:VEVENT
DTSTART;TZID=America/New_York:20220404T103000
DTEND;TZID=America/New_York:20220404T110000
DTSTAMP:20260423T074309
CREATED:20220323T223423Z
LAST-MODIFIED:20220323T223423Z
UID:2612-1649068200-1649070000@marionlib.org
SUMMARY:Toddler Storytime
DESCRIPTION:
URL:https://marionlib.org/event/toddler-storytime-10/
END:VEVENT
BEGIN:VEVENT
DTSTART;TZID=America/New_York:20220406T110000
DTEND;TZID=America/New_York:20220406T113000
DTSTAMP:20260423T074309
CREATED:20220323T223543Z
LAST-MODIFIED:20220323T223650Z
UID:2618-1649242800-1649244600@marionlib.org
SUMMARY:Preschool Storytime
DESCRIPTION:
URL:https://marionlib.org/event/toddler-storytime-13/
END:VEVENT
BEGIN:VEVENT
DTSTART;TZID=America/New_York:20220411T103000
DTEND;TZID=America/New_York:20220411T110000
DTSTAMP:20260423T074309
CREATED:20220323T223449Z
LAST-MODIFIED:20220323T223449Z
UID:2614-1649673000-1649674800@marionlib.org
SUMMARY:Toddler Storytime
DESCRIPTION:
URL:https://marionlib.org/event/toddler-storytime-11/
END:VEVENT
BEGIN:VEVENT
DTSTART;TZID=America/New_York:20220413T110000
DTEND;TZID=America/New_York:20220413T113000
DTSTAMP:20260423T074309
CREATED:20220323T223720Z
LAST-MODIFIED:20220323T223740Z
UID:2621-1649847600-1649849400@marionlib.org
SUMMARY:Preschool Storytime
DESCRIPTION:
URL:https://marionlib.org/event/preschool-stprytime/
END:VEVENT
BEGIN:VEVENT
DTSTART;TZID=America/New_York:20220413T183000
DTEND;TZID=America/New_York:20220413T200000
DTSTAMP:20260423T074309
CREATED:20220323T224253Z
LAST-MODIFIED:20220323T224537Z
UID:2630-1649874600-1649880000@marionlib.org
SUMMARY:Book Club
DESCRIPTION:
URL:https://marionlib.org/event/toddler-storytime-14/
END:VEVENT
BEGIN:VEVENT
DTSTART;TZID=America/New_York:20220418T103000
DTEND;TZID=America/New_York:20220418T110000
DTSTAMP:20260423T074309
CREATED:20220323T223516Z
LAST-MODIFIED:20220323T223516Z
UID:2616-1650277800-1650279600@marionlib.org
SUMMARY:Toddler Storytime
DESCRIPTION:
URL:https://marionlib.org/event/toddler-storytime-12/
END:VEVENT
BEGIN:VEVENT
DTSTART;TZID=America/New_York:20220419T190000
DTEND;TZID=America/New_York:20220419T200000
DTSTAMP:20260423T074309
CREATED:20220323T224416Z
LAST-MODIFIED:20220323T224454Z
UID:2632-1650394800-1650398400@marionlib.org
SUMMARY:Board of Trustees Meeting
DESCRIPTION:
URL:https://marionlib.org/event/book-club-7/
END:VEVENT
BEGIN:VEVENT
DTSTART;TZID=America/New_York:20220420T110000
DTEND;TZID=America/New_York:20220420T113000
DTSTAMP:20260423T074309
CREATED:20220323T224148Z
LAST-MODIFIED:20220323T224154Z
UID:2628-1650452400-1650454200@marionlib.org
SUMMARY:Preschool Storytime
DESCRIPTION:
URL:https://marionlib.org/event/preschool-storytime-10/
END:VEVENT
BEGIN:VEVENT
DTSTART;TZID=America/New_York:20220425T103000
DTEND;TZID=America/New_York:20220425T110000
DTSTAMP:20260423T074309
CREATED:20220325T173300Z
LAST-MODIFIED:20220420T181306Z
UID:2642-1650882600-1650884400@marionlib.org
SUMMARY:Toddler Storytime
DESCRIPTION:
URL:https://marionlib.org/event/toddler-storytime-15/
END:VEVENT
BEGIN:VEVENT
DTSTART;TZID=America/New_York:20220427T110000
DTEND;TZID=America/New_York:20220427T113000
DTSTAMP:20260423T074309
CREATED:20220323T223805Z
LAST-MODIFIED:20220323T223805Z
UID:2624-1651057200-1651059000@marionlib.org
SUMMARY:Preschool Storytime
DESCRIPTION:
URL:https://marionlib.org/event/preschool-storytime-9/
END:VEVENT
END:VCALENDAR