BEGIN:VCALENDAR
VERSION:2.0
PRODID:-//Marion Public Library - ECPv6.15.20//NONSGML v1.0//EN
CALSCALE:GREGORIAN
METHOD:PUBLISH
X-WR-CALNAME:Marion Public Library
X-ORIGINAL-URL:https://marionlib.org
X-WR-CALDESC:Events for Marion Public Library
REFRESH-INTERVAL;VALUE=DURATION:PT1H
X-Robots-Tag:noindex
X-PUBLISHED-TTL:PT1H
BEGIN:VTIMEZONE
TZID:America/New_York
BEGIN:DAYLIGHT
TZOFFSETFROM:-0500
TZOFFSETTO:-0400
TZNAME:EDT
DTSTART:20210314T070000
END:DAYLIGHT
BEGIN:STANDARD
TZOFFSETFROM:-0400
TZOFFSETTO:-0500
TZNAME:EST
DTSTART:20211107T060000
END:STANDARD
BEGIN:DAYLIGHT
TZOFFSETFROM:-0500
TZOFFSETTO:-0400
TZNAME:EDT
DTSTART:20220313T070000
END:DAYLIGHT
BEGIN:STANDARD
TZOFFSETFROM:-0400
TZOFFSETTO:-0500
TZNAME:EST
DTSTART:20221106T060000
END:STANDARD
BEGIN:DAYLIGHT
TZOFFSETFROM:-0500
TZOFFSETTO:-0400
TZNAME:EDT
DTSTART:20230312T070000
END:DAYLIGHT
BEGIN:STANDARD
TZOFFSETFROM:-0400
TZOFFSETTO:-0500
TZNAME:EST
DTSTART:20231105T060000
END:STANDARD
END:VTIMEZONE
BEGIN:VEVENT
DTSTART;VALUE=DATE:20220101
DTEND;VALUE=DATE:20220102
DTSTAMP:20260423T121237
CREATED:20211117T204234Z
LAST-MODIFIED:20211117T204235Z
UID:2486-1640995200-1641081599@marionlib.org
SUMMARY:closed
DESCRIPTION:
URL:https://marionlib.org/event/closed-4/
END:VEVENT
BEGIN:VEVENT
DTSTART;TZID=America/New_York:20220103T103000
DTEND;TZID=America/New_York:20220103T110000
DTSTAMP:20260423T121237
CREATED:20211222T152057Z
LAST-MODIFIED:20211222T152317Z
UID:2521-1641205800-1641207600@marionlib.org
SUMMARY:Toddler Storytime
DESCRIPTION:
URL:https://marionlib.org/event/toddler-storytime-2/
END:VEVENT
BEGIN:VEVENT
DTSTART;TZID=America/New_York:20220105T110000
DTEND;TZID=America/New_York:20220105T113000
DTSTAMP:20260423T121237
CREATED:20211222T152506Z
LAST-MODIFIED:20211222T152506Z
UID:2529-1641380400-1641382200@marionlib.org
SUMMARY:Preschool Storytime
DESCRIPTION:
URL:https://marionlib.org/event/preschool-storytime/
END:VEVENT
BEGIN:VEVENT
DTSTART;TZID=America/New_York:20220110T103000
DTEND;TZID=America/New_York:20220110T110000
DTSTAMP:20260423T121237
CREATED:20211222T152149Z
LAST-MODIFIED:20211222T152343Z
UID:2523-1641810600-1641812400@marionlib.org
SUMMARY:Toddler Storytime
DESCRIPTION:
URL:https://marionlib.org/event/toddler-storytime-3/
END:VEVENT
BEGIN:VEVENT
DTSTART;TZID=America/New_York:20220112T063000
DTEND;TZID=America/New_York:20220112T200000
DTSTAMP:20260423T121237
CREATED:20211222T153401Z
LAST-MODIFIED:20211222T153401Z
UID:2543-1641969000-1642017600@marionlib.org
SUMMARY:Book Club
DESCRIPTION:
URL:https://marionlib.org/event/book-club-5/
END:VEVENT
BEGIN:VEVENT
DTSTART;TZID=America/New_York:20220112T110000
DTEND;TZID=America/New_York:20220112T113000
DTSTAMP:20260423T121237
CREATED:20211222T152544Z
LAST-MODIFIED:20211222T152556Z
UID:2531-1641985200-1641987000@marionlib.org
SUMMARY:Preschool Storytime
DESCRIPTION:
URL:https://marionlib.org/event/preschool-storytime-2/
END:VEVENT
BEGIN:VEVENT
DTSTART;VALUE=DATE:20220117
DTEND;VALUE=DATE:20220118
DTSTAMP:20260423T121237
CREATED:20211222T153131Z
LAST-MODIFIED:20211222T153135Z
UID:2537-1642377600-1642463999@marionlib.org
SUMMARY:Closed For Martin Luther King Jr. Day
DESCRIPTION:
URL:https://marionlib.org/event/closed-for-martin-luther-king-jr-day/
END:VEVENT
BEGIN:VEVENT
DTSTART;TZID=America/New_York:20220119T110000
DTEND;TZID=America/New_York:20220119T113000
DTSTAMP:20260423T121237
CREATED:20211222T152632Z
LAST-MODIFIED:20211222T152632Z
UID:2533-1642590000-1642591800@marionlib.org
SUMMARY:Preschool Storytime
DESCRIPTION:
URL:https://marionlib.org/event/preschool-storytime-3/
END:VEVENT
BEGIN:VEVENT
DTSTART;TZID=America/New_York:20220124T103000
DTEND;TZID=America/New_York:20220124T110000
DTSTAMP:20260423T121237
CREATED:20211222T152225Z
LAST-MODIFIED:20211222T152225Z
UID:2525-1643020200-1643022000@marionlib.org
SUMMARY:Toddler Storytime
DESCRIPTION:
URL:https://marionlib.org/event/toddler-storytime-4/
END:VEVENT
BEGIN:VEVENT
DTSTART;TZID=America/New_York:20220126T110000
DTEND;TZID=America/New_York:20220126T113000
DTSTAMP:20260423T121237
CREATED:20211222T152708Z
LAST-MODIFIED:20211222T152708Z
UID:2535-1643194800-1643196600@marionlib.org
SUMMARY:Preschool Storytime
DESCRIPTION:
URL:https://marionlib.org/event/preschool-storytime-4/
END:VEVENT
BEGIN:VEVENT
DTSTART;TZID=America/New_York:20220131T103000
DTEND;TZID=America/New_York:20220131T110000
DTSTAMP:20260423T121237
CREATED:20211222T152257Z
LAST-MODIFIED:20211222T152257Z
UID:2527-1643625000-1643626800@marionlib.org
SUMMARY:Toddler Storytime
DESCRIPTION:
URL:https://marionlib.org/event/toddler-storytime-5/
END:VEVENT
END:VCALENDAR