BEGIN:VCALENDAR
VERSION:2.0
PRODID:-//Marion Public Library - ECPv6.15.20//NONSGML v1.0//EN
CALSCALE:GREGORIAN
METHOD:PUBLISH
X-ORIGINAL-URL:https://marionlib.org
X-WR-CALDESC:Events for Marion Public Library
REFRESH-INTERVAL;VALUE=DURATION:PT1H
X-Robots-Tag:noindex
X-PUBLISHED-TTL:PT1H
BEGIN:VTIMEZONE
TZID:America/New_York
BEGIN:DAYLIGHT
TZOFFSETFROM:-0500
TZOFFSETTO:-0400
TZNAME:EDT
DTSTART:20200308T070000
END:DAYLIGHT
BEGIN:STANDARD
TZOFFSETFROM:-0400
TZOFFSETTO:-0500
TZNAME:EST
DTSTART:20201101T060000
END:STANDARD
BEGIN:DAYLIGHT
TZOFFSETFROM:-0500
TZOFFSETTO:-0400
TZNAME:EDT
DTSTART:20210314T070000
END:DAYLIGHT
BEGIN:STANDARD
TZOFFSETFROM:-0400
TZOFFSETTO:-0500
TZNAME:EST
DTSTART:20211107T060000
END:STANDARD
BEGIN:DAYLIGHT
TZOFFSETFROM:-0500
TZOFFSETTO:-0400
TZNAME:EDT
DTSTART:20220313T070000
END:DAYLIGHT
BEGIN:STANDARD
TZOFFSETFROM:-0400
TZOFFSETTO:-0500
TZNAME:EST
DTSTART:20221106T060000
END:STANDARD
END:VTIMEZONE
BEGIN:VEVENT
DTSTART;TZID=America/New_York:20210705T180000
DTEND;TZID=America/New_York:20210705T190000
DTSTAMP:20260423T203708
CREATED:20210302T212540Z
LAST-MODIFIED:20210302T212604Z
UID:2072-1625508000-1625511600@marionlib.org
SUMMARY:Online Gardening Program
DESCRIPTION:One of the easiest ways to start succession planting is simply to not plant an entire crop all at once. Join Petra Page-Mann\, founder and proprietor of Fruition Seeds\, to learn the keys to simple and successful succession sowing so you can have healthy and beautiful beds that will bring joy throughout the growing seasons!
URL:https://marionlib.org/event/online-gardening-program-2/
END:VEVENT
BEGIN:VEVENT
DTSTART;TZID=America/New_York:20210707T190000
DTEND;TZID=America/New_York:20210707T193000
DTSTAMP:20260423T203708
CREATED:20210602T160051Z
LAST-MODIFIED:20210602T160051Z
UID:2218-1625684400-1625686200@marionlib.org
SUMMARY:PJ Story Time
DESCRIPTION:A traditional favorite – enjoy an evening of stories and sing along fun. Children are invited to wear PJs and bring a pillow\, blanket and/or favorite stuffed toy with them to the library
URL:https://marionlib.org/event/pj-story-time/
ATTACH;FMTTYPE=image/jpeg:https://marionlib.org/wp-content/uploads/sites/13/2021/06/Neighborhood-Recreation-Center.jpg
END:VEVENT
BEGIN:VEVENT
DTSTART;TZID=America/New_York:20210710T093000
DTEND;TZID=America/New_York:20210710T103000
DTSTAMP:20260423T203708
CREATED:20210602T174955Z
LAST-MODIFIED:20210602T175939Z
UID:2246-1625909400-1625913000@marionlib.org
SUMMARY:Adult Yoga Classes
DESCRIPTION:Yoga with Angela Brown is for everyone regardless of body shape or gender. \nThis 60-minute practice is open to students of ALL levels. \nWear comfortable clothing. Please bring a yoga mat or large towel\, a water bottle and an open mind. \nTHIS IS A FREE SERIES OF OUTDOOR YOGA CLASSES brought to you by the Marion Public Library.\n\n\n\n 
URL:https://marionlib.org/event/adult-classes/
ATTACH;FMTTYPE=image/jpeg:https://marionlib.org/wp-content/uploads/sites/13/2021/06/ADULT-YOGA-CLASSES.jpg
END:VEVENT
BEGIN:VEVENT
DTSTART;TZID=America/New_York:20210712T103000
DTEND;TZID=America/New_York:20210712T110000
DTSTAMP:20260423T203708
CREATED:20210602T164959Z
LAST-MODIFIED:20210602T164959Z
UID:2233-1626085800-1626087600@marionlib.org
SUMMARY:Baby/Toddler Story Time
DESCRIPTION:Ages birth-2 years (with a favorite adult) enjoy songs\, action rhymes\, and short stories in each session. Toddler Time gives your baby the opportunity to encourage your child’s emerging language skills while you get to know other young families.
URL:https://marionlib.org/event/baby-toddler-story-time/
ATTACH;FMTTYPE=image/jpeg:https://marionlib.org/wp-content/uploads/sites/13/2021/06/Neighborhood-Recreation-Center-1.jpg
END:VEVENT
BEGIN:VEVENT
DTSTART;TZID=America/New_York:20210713T143000
DTEND;TZID=America/New_York:20210713T160000
DTSTAMP:20260423T203708
CREATED:20210602T202615Z
LAST-MODIFIED:20210602T202615Z
UID:2263-1626186600-1626192000@marionlib.org
SUMMARY:Craft & Snack
DESCRIPTION:CRAFT TIME OPEN HOUSE : A come and go program where children will take part in a simple craft activity and enjoy a quick snack.
URL:https://marionlib.org/event/craft-snack/
ATTACH;FMTTYPE=image/jpeg:https://marionlib.org/wp-content/uploads/sites/13/2021/06/Fill-in-the-sign-up-sheet-in-the-Rec-Hall-to-JOIN.jpg
END:VEVENT
BEGIN:VEVENT
DTSTART;TZID=America/New_York:20210714T190000
DTEND;TZID=America/New_York:20210714T193000
DTSTAMP:20260423T203708
CREATED:20210602T160157Z
LAST-MODIFIED:20210602T160157Z
UID:2220-1626289200-1626291000@marionlib.org
SUMMARY:PJ Story Time
DESCRIPTION:
URL:https://marionlib.org/event/pj-story-time-2/
ATTACH;FMTTYPE=image/jpeg:https://marionlib.org/wp-content/uploads/sites/13/2021/06/Neighborhood-Recreation-Center.jpg
END:VEVENT
BEGIN:VEVENT
DTSTART;TZID=America/New_York:20210715T140000
DTEND;TZID=America/New_York:20210715T150000
DTSTAMP:20260423T203708
CREATED:20210609T175707Z
LAST-MODIFIED:20210609T175750Z
UID:2283-1626357600-1626361200@marionlib.org
SUMMARY:Animal Dance Party
DESCRIPTION:Powered by Girl Scouts\n\nFor Children PreK – 3rd Grade\n\n\nImagine you’re a grasshopper or a ladybug. How do bugs like those see the world? Do little rocks seem big? Do blades of grass seem super tall? Now put on some music. How do you move or dance differently now that you’re a bug? Now pretend you’re a bird that can fly high above the earth\, a giant elephant with a swinging trunk\, or even a household pet. How did your dancing change?\n\nWe’ll learn about lots of animals and find fun new ways to dance together at the party!
URL:https://marionlib.org/event/animal-dance-party/
ATTACH;FMTTYPE=image/jpeg:https://marionlib.org/wp-content/uploads/sites/13/2021/06/ANIMAL-Dance-Party.jpg
END:VEVENT
BEGIN:VEVENT
DTSTART;TZID=America/New_York:20210717T093000
DTEND;TZID=America/New_York:20210717T103000
DTSTAMP:20260423T203708
CREATED:20210602T175041Z
LAST-MODIFIED:20210602T175041Z
UID:2248-1626514200-1626517800@marionlib.org
SUMMARY:Adult Yoga Classes
DESCRIPTION:Yoga with Angela Brown is for everyone regardless of body shape or gender. \nThis 60-minute practice is open to students of ALL levels. \nWear comfortable clothing. Please bring a yoga mat or large towel\, a water bottle and an open mind. \nTHIS IS A FREE SERIES OF OUTDOOR YOGA CLASSES brought to you by the Marion Public Library.
URL:https://marionlib.org/event/adult-yoga-classes/
ATTACH;FMTTYPE=image/jpeg:https://marionlib.org/wp-content/uploads/sites/13/2021/06/ADULT-YOGA-CLASSES.jpg
END:VEVENT
BEGIN:VEVENT
DTSTART;TZID=America/New_York:20210719T103000
DTEND;TZID=America/New_York:20210719T110000
DTSTAMP:20260423T203708
CREATED:20210602T165057Z
LAST-MODIFIED:20210602T165057Z
UID:2235-1626690600-1626692400@marionlib.org
SUMMARY:Baby/Toddler Story Time
DESCRIPTION:Ages birth-2 years (with a favorite adult) enjoy songs\, action rhymes\, and short stories in each session. Toddler Time gives your baby the opportunity to encourage your child’s emerging language skills while you get to know other young families.
URL:https://marionlib.org/event/baby-toddler-story-time-2/
ATTACH;FMTTYPE=image/jpeg:https://marionlib.org/wp-content/uploads/sites/13/2021/06/Neighborhood-Recreation-Center-1.jpg
END:VEVENT
BEGIN:VEVENT
DTSTART;TZID=America/New_York:20210720T143000
DTEND;TZID=America/New_York:20210720T160000
DTSTAMP:20260423T203708
CREATED:20210602T202658Z
LAST-MODIFIED:20210602T202658Z
UID:2265-1626791400-1626796800@marionlib.org
SUMMARY:Craft & Snack
DESCRIPTION:CRAFT TIME OPEN HOUSE : A come and go program where children will take part in a simple craft activity and enjoy a quick snack.
URL:https://marionlib.org/event/craft-snack-2/
ATTACH;FMTTYPE=image/jpeg:https://marionlib.org/wp-content/uploads/sites/13/2021/06/Fill-in-the-sign-up-sheet-in-the-Rec-Hall-to-JOIN.jpg
END:VEVENT
BEGIN:VEVENT
DTSTART;TZID=America/New_York:20210721T190000
DTEND;TZID=America/New_York:20210721T193000
DTSTAMP:20260423T203708
CREATED:20210602T160307Z
LAST-MODIFIED:20210602T160307Z
UID:2222-1626894000-1626895800@marionlib.org
SUMMARY:PJ Story Time
DESCRIPTION:
URL:https://marionlib.org/event/pj-story-time-3/
ATTACH;FMTTYPE=image/jpeg:https://marionlib.org/wp-content/uploads/sites/13/2021/06/Neighborhood-Recreation-Center.jpg
END:VEVENT
BEGIN:VEVENT
DTSTART;TZID=America/New_York:20210724T093000
DTEND;TZID=America/New_York:20210724T103000
DTSTAMP:20260423T203708
CREATED:20210602T175134Z
LAST-MODIFIED:20210602T175134Z
UID:2250-1627119000-1627122600@marionlib.org
SUMMARY:Adult Yoga Classes
DESCRIPTION:Yoga with Angela Brown is for everyone regardless of body shape or gender. \nThis 60-minute practice is open to students of ALL levels. \nWear comfortable clothing. Please bring a yoga mat or large towel\, a water bottle and an open mind. \nTHIS IS A FREE SERIES OF OUTDOOR YOGA CLASSES brought to you by the Marion Public Library.
URL:https://marionlib.org/event/adult-yoga-classes-2/
ATTACH;FMTTYPE=image/jpeg:https://marionlib.org/wp-content/uploads/sites/13/2021/06/ADULT-YOGA-CLASSES.jpg
END:VEVENT
BEGIN:VEVENT
DTSTART;TZID=America/New_York:20210726T103000
DTEND;TZID=America/New_York:20210726T110000
DTSTAMP:20260423T203708
CREATED:20210602T165154Z
LAST-MODIFIED:20210602T165154Z
UID:2237-1627295400-1627297200@marionlib.org
SUMMARY:Baby/Toddler Story Time
DESCRIPTION:Ages birth-2 years (with a favorite adult) enjoy songs\, action rhymes\, and short stories in each session. Toddler Time gives your baby the opportunity to encourage your child’s emerging language skills while you get to know other young families.
URL:https://marionlib.org/event/baby-toddler-story-time-3/
ATTACH;FMTTYPE=image/jpeg:https://marionlib.org/wp-content/uploads/sites/13/2021/06/Neighborhood-Recreation-Center-1.jpg
END:VEVENT
BEGIN:VEVENT
DTSTART;TZID=America/New_York:20210727T143000
DTEND;TZID=America/New_York:20210727T160000
DTSTAMP:20260423T203708
CREATED:20210602T202748Z
LAST-MODIFIED:20210602T202748Z
UID:2267-1627396200-1627401600@marionlib.org
SUMMARY:Craft & Snack
DESCRIPTION:CRAFT TIME OPEN HOUSE : A come and go program where children will take part in a simple craft activity and enjoy a quick snack.
URL:https://marionlib.org/event/craft-snack-3/
ATTACH;FMTTYPE=image/jpeg:https://marionlib.org/wp-content/uploads/sites/13/2021/06/Fill-in-the-sign-up-sheet-in-the-Rec-Hall-to-JOIN.jpg
END:VEVENT
BEGIN:VEVENT
DTSTART;TZID=America/New_York:20210728T190000
DTEND;TZID=America/New_York:20210728T193000
DTSTAMP:20260423T203708
CREATED:20210602T160356Z
LAST-MODIFIED:20210602T160356Z
UID:2224-1627498800-1627500600@marionlib.org
SUMMARY:PJ Story Time
DESCRIPTION:
URL:https://marionlib.org/event/pj-story-time-4/
ATTACH;FMTTYPE=image/jpeg:https://marionlib.org/wp-content/uploads/sites/13/2021/06/Neighborhood-Recreation-Center.jpg
END:VEVENT
BEGIN:VEVENT
DTSTART;TZID=America/New_York:20210731T093000
DTEND;TZID=America/New_York:20210731T103000
DTSTAMP:20260423T203708
CREATED:20210602T175227Z
LAST-MODIFIED:20210602T175235Z
UID:2252-1627723800-1627727400@marionlib.org
SUMMARY:Adult Yoga Classes
DESCRIPTION:Yoga with Angela Brown is for everyone regardless of body shape or gender. \nThis 60-minute practice is open to students of ALL levels. \nWear comfortable clothing. Please bring a yoga mat or large towel\, a water bottle and an open mind. \nTHIS IS A FREE SERIES OF OUTDOOR YOGA CLASSES brought to you by the Marion Public Library.
URL:https://marionlib.org/event/adult-yoga-classes-3/
ATTACH;FMTTYPE=image/jpeg:https://marionlib.org/wp-content/uploads/sites/13/2021/06/ADULT-YOGA-CLASSES.jpg
END:VEVENT
END:VCALENDAR