BEGIN:VCALENDAR
VERSION:2.0
PRODID:-//Marion Public Library - ECPv6.15.20//NONSGML v1.0//EN
CALSCALE:GREGORIAN
METHOD:PUBLISH
X-ORIGINAL-URL:https://marionlib.org
X-WR-CALDESC:Events for Marion Public Library
REFRESH-INTERVAL;VALUE=DURATION:PT1H
X-Robots-Tag:noindex
X-PUBLISHED-TTL:PT1H
BEGIN:VTIMEZONE
TZID:America/New_York
BEGIN:DAYLIGHT
TZOFFSETFROM:-0500
TZOFFSETTO:-0400
TZNAME:EDT
DTSTART:20200308T070000
END:DAYLIGHT
BEGIN:STANDARD
TZOFFSETFROM:-0400
TZOFFSETTO:-0500
TZNAME:EST
DTSTART:20201101T060000
END:STANDARD
BEGIN:DAYLIGHT
TZOFFSETFROM:-0500
TZOFFSETTO:-0400
TZNAME:EDT
DTSTART:20210314T070000
END:DAYLIGHT
BEGIN:STANDARD
TZOFFSETFROM:-0400
TZOFFSETTO:-0500
TZNAME:EST
DTSTART:20211107T060000
END:STANDARD
BEGIN:DAYLIGHT
TZOFFSETFROM:-0500
TZOFFSETTO:-0400
TZNAME:EDT
DTSTART:20220313T070000
END:DAYLIGHT
BEGIN:STANDARD
TZOFFSETFROM:-0400
TZOFFSETTO:-0500
TZNAME:EST
DTSTART:20221106T060000
END:STANDARD
END:VTIMEZONE
BEGIN:VEVENT
DTSTART;TZID=America/New_York:20210405T180000
DTEND;TZID=America/New_York:20210405T190000
DTSTAMP:20260424T002953
CREATED:20210302T211559Z
LAST-MODIFIED:20210302T211559Z
UID:2066-1617645600-1617649200@marionlib.org
SUMMARY:Online Garden Program
DESCRIPTION:Are you dreaming about the garden you will have this summer? Whether you are a seasoned gardener or new to the joy of botanical treasure\, join Petra Page-Mann\, founder and proprietor of Fruition Seeds\, to learn the three keys to planning an abundant\, healthy and beautiful bed that will bring joy all summer long!
URL:https://marionlib.org/event/online-garden-program/
END:VEVENT
BEGIN:VEVENT
DTSTART;TZID=America/New_York:20210414T183000
DTEND;TZID=America/New_York:20210414T200000
DTSTAMP:20260424T002953
CREATED:20210322T153504Z
LAST-MODIFIED:20210322T153504Z
UID:2133-1618425000-1618430400@marionlib.org
SUMMARY:Book Club
DESCRIPTION:
URL:https://marionlib.org/event/book-club-2/
END:VEVENT
BEGIN:VEVENT
DTSTART;TZID=America/New_York:20210420T190000
DTEND;TZID=America/New_York:20210420T200000
DTSTAMP:20260424T002953
CREATED:20210201T180053Z
LAST-MODIFIED:20210201T180053Z
UID:2010-1618945200-1618948800@marionlib.org
SUMMARY:Board of Trustees Meeting
DESCRIPTION:The community is always welcome to attend. \n 
URL:https://marionlib.org/event/board-of-trustees-meeting-5/
END:VEVENT
BEGIN:VEVENT
DTSTART;TZID=America/New_York:20210424T110000
DTEND;TZID=America/New_York:20210424T113000
DTSTAMP:20260424T002953
CREATED:20210322T153351Z
LAST-MODIFIED:20220926T155353Z
UID:2130-1619262000-1619263800@marionlib.org
SUMMARY:Historic Marker Dedication Ceremony
DESCRIPTION:The Marion Historic Association will dedicate a historic marker in front of the Marion Public Library.
URL:https://marionlib.org/event/historic-marker-dedication-ceremony/
END:VEVENT
END:VCALENDAR