BEGIN:VCALENDAR
VERSION:2.0
PRODID:-//Marion Public Library - ECPv6.15.20//NONSGML v1.0//EN
CALSCALE:GREGORIAN
METHOD:PUBLISH
X-WR-CALNAME:Marion Public Library
X-ORIGINAL-URL:https://marionlib.org
X-WR-CALDESC:Events for Marion Public Library
REFRESH-INTERVAL;VALUE=DURATION:PT1H
X-Robots-Tag:noindex
X-PUBLISHED-TTL:PT1H
BEGIN:VTIMEZONE
TZID:America/New_York
BEGIN:DAYLIGHT
TZOFFSETFROM:-0500
TZOFFSETTO:-0400
TZNAME:EDT
DTSTART:20200308T070000
END:DAYLIGHT
BEGIN:STANDARD
TZOFFSETFROM:-0400
TZOFFSETTO:-0500
TZNAME:EST
DTSTART:20201101T060000
END:STANDARD
BEGIN:DAYLIGHT
TZOFFSETFROM:-0500
TZOFFSETTO:-0400
TZNAME:EDT
DTSTART:20210314T070000
END:DAYLIGHT
BEGIN:STANDARD
TZOFFSETFROM:-0400
TZOFFSETTO:-0500
TZNAME:EST
DTSTART:20211107T060000
END:STANDARD
BEGIN:DAYLIGHT
TZOFFSETFROM:-0500
TZOFFSETTO:-0400
TZNAME:EDT
DTSTART:20220313T070000
END:DAYLIGHT
BEGIN:STANDARD
TZOFFSETFROM:-0400
TZOFFSETTO:-0500
TZNAME:EST
DTSTART:20221106T060000
END:STANDARD
END:VTIMEZONE
BEGIN:VEVENT
DTSTART;TZID=America/New_York:20210210T183000
DTEND;TZID=America/New_York:20210210T200000
DTSTAMP:20260424T031224
CREATED:20210114T205640Z
LAST-MODIFIED:20210114T205640Z
UID:1994-1612981800-1612987200@marionlib.org
SUMMARY:Book Club
DESCRIPTION:Join the book club on Wednesday\, February 10th as we meet to discuss\, These Ghosts Are Family\, by Maisy Card. Space is limited\, so please register in advance. 315.926-4933Masks and social distancing required.
URL:https://marionlib.org/event/book-club/
END:VEVENT
BEGIN:VEVENT
DTSTART;TZID=America/New_York:20210216T190000
DTEND;TZID=America/New_York:20210216T190000
DTSTAMP:20260424T031224
CREATED:20210114T205757Z
LAST-MODIFIED:20210114T205757Z
UID:1996-1613502000-1613502000@marionlib.org
SUMMARY:Board of Trustees Meeting
DESCRIPTION:
URL:https://marionlib.org/event/board-of-trustees-meeting-3/
END:VEVENT
BEGIN:VEVENT
DTSTART;TZID=America/New_York:20210222T080000
DTEND;TZID=America/New_York:20210222T170000
DTSTAMP:20260424T031225
CREATED:20210222T160913Z
LAST-MODIFIED:20210222T160913Z
UID:2038-1613980800-1614013200@marionlib.org
SUMMARY:Garden Planning Program (Online)
DESCRIPTION:Three Keys to Planning a Garden\n\nAre you dreaming about the garden you will have this summer?  Whether you are a seasoned gardener or new to the joy of botanical treasure\, join Petra Page-Mann\, founder and proprietor of Fruition Seeds\, to learn the three keys to planning an abundant\, healthy and beautiful bed that will bring joy all summer long! \nThe information you need to participate will be sent to you 1-3 days prior to the event date (March 1\, 2021 at 6 pm). \nRegister online to receive the information you will need to attend:   \nhttps://docs.google.com/forms/d/e/1FAIpQLSfZR4utnC0r3pCh0C28AukMI8GHqgrIZb_5WdpK20jDnIxBSA/viewform?usp=sf_link
URL:https://marionlib.org/event/garden-planning-program-online/
END:VEVENT
END:VCALENDAR