BEGIN:VCALENDAR
VERSION:2.0
PRODID:-//Marion Public Library - ECPv6.15.20//NONSGML v1.0//EN
CALSCALE:GREGORIAN
METHOD:PUBLISH
X-WR-CALNAME:Marion Public Library
X-ORIGINAL-URL:https://marionlib.org
X-WR-CALDESC:Events for Marion Public Library
REFRESH-INTERVAL;VALUE=DURATION:PT1H
X-Robots-Tag:noindex
X-PUBLISHED-TTL:PT1H
BEGIN:VTIMEZONE
TZID:America/New_York
BEGIN:DAYLIGHT
TZOFFSETFROM:-0500
TZOFFSETTO:-0400
TZNAME:EDT
DTSTART:20190310T070000
END:DAYLIGHT
BEGIN:STANDARD
TZOFFSETFROM:-0400
TZOFFSETTO:-0500
TZNAME:EST
DTSTART:20191103T060000
END:STANDARD
BEGIN:DAYLIGHT
TZOFFSETFROM:-0500
TZOFFSETTO:-0400
TZNAME:EDT
DTSTART:20200308T070000
END:DAYLIGHT
BEGIN:STANDARD
TZOFFSETFROM:-0400
TZOFFSETTO:-0500
TZNAME:EST
DTSTART:20201101T060000
END:STANDARD
BEGIN:DAYLIGHT
TZOFFSETFROM:-0500
TZOFFSETTO:-0400
TZNAME:EDT
DTSTART:20210314T070000
END:DAYLIGHT
BEGIN:STANDARD
TZOFFSETFROM:-0400
TZOFFSETTO:-0500
TZNAME:EST
DTSTART:20211107T060000
END:STANDARD
END:VTIMEZONE
BEGIN:VEVENT
DTSTART;TZID=America/New_York:20200911T160000
DTEND;TZID=America/New_York:20200911T170000
DTSTAMP:20260424T102620
CREATED:20200805T191738Z
LAST-MODIFIED:20200819T210238Z
UID:1811-1599840000-1599843600@marionlib.org
SUMMARY:7 Steps to Growing Great Garlic
DESCRIPTION: 7 Steps to Growing Great Garlic: Garlic is easy & rewarding to grow in western New York! Here are the keys for success\, step by step\, plus the common mistakes people make and their simple solutions to surround you with abundance for years to come. \nRegistration is required for the event. Please complete this google form to register. \nIf you have any further questions please feel free to email alawrence@pls-net.org for more information.
URL:https://marionlib.org/event/7-steps-to-growing-great-garlic/
ATTACH;FMTTYPE=image/jpeg:https://marionlib.org/wp-content/uploads/sites/13/2020/08/116875226_10164301365375221_3545699563599095045_o.jpg
END:VEVENT
BEGIN:VEVENT
DTSTART;TZID=America/New_York:20200914T183000
DTEND;TZID=America/New_York:20200914T193000
DTSTAMP:20260424T102620
CREATED:20200805T192139Z
LAST-MODIFIED:20200805T192139Z
UID:1813-1600108200-1600111800@marionlib.org
SUMMARY:Sunset Yoga (Outdoors)
DESCRIPTION:THIS IS A FREE SERIES OF OUTDOOR YOGA CLASSES brought to you by the Marion Public Library. \nMasks must be worn while setting up for class outdoors. Once on your socially distanced mat you will have the option to remove your mask. \nYoga with Angela Brown is for everyone regardless of body shape or gender.This 60-minute practice is open to students of ALL levels. \nWear comfortable clothing. Please bring a yoga mat or large towel\, a water bottle and an open mind. \nPlease do your part!\nIf you have any potential COVID-19 symptoms or have been exposed to someone who has the virus\, please stay home. This is the most important way you can protect yourself and others in our community.
URL:https://marionlib.org/event/sunset-yoga-outdoors/
ATTACH;FMTTYPE=image/png:https://marionlib.org/wp-content/uploads/sites/13/2020/08/2020-YOGA-1.png
END:VEVENT
BEGIN:VEVENT
DTSTART;TZID=America/New_York:20200915T190000
DTEND;TZID=America/New_York:20200915T200000
DTSTAMP:20260424T102620
CREATED:20200722T232155Z
LAST-MODIFIED:20200819T210413Z
UID:1752-1600196400-1600200000@marionlib.org
SUMMARY:Board of Trustees Meeting
DESCRIPTION:The community is always welcome to attend.
URL:https://marionlib.org/event/baord-of-trustees-meeting/
END:VEVENT
BEGIN:VEVENT
DTSTART;TZID=America/New_York:20200921T183000
DTEND;TZID=America/New_York:20200921T193000
DTSTAMP:20260424T102620
CREATED:20200805T192405Z
LAST-MODIFIED:20200805T192405Z
UID:1815-1600713000-1600716600@marionlib.org
SUMMARY:Sunset Yoga (Outdoors)
DESCRIPTION:THIS IS A FREE SERIES OF OUTDOOR YOGA CLASSES brought to you by the Marion Public Library. \nMasks must be worn while setting up for class outdoors. Once on your socially distanced mat you will have the option to remove your mask. \nYoga with Angela Brown is for everyone regardless of body shape or gender.This 60-minute practice is open to students of ALL levels. \nWear comfortable clothing. Please bring a yoga mat or large towel\, a water bottle and an open mind. \nPlease do your part!\nIf you have any potential COVID-19 symptoms or have been exposed to someone who has the virus\, please stay home. This is the most important way you can protect yourself and others in our community.
URL:https://marionlib.org/event/sunset-yoga-outdoors-2/
ATTACH;FMTTYPE=image/png:https://marionlib.org/wp-content/uploads/sites/13/2020/08/2020-YOGA-1.png
END:VEVENT
BEGIN:VEVENT
DTSTART;TZID=America/New_York:20200923T110000
DTEND;TZID=America/New_York:20200923T113000
DTSTAMP:20260424T102620
CREATED:20200916T172524Z
LAST-MODIFIED:20200916T173230Z
UID:1851-1600858800-1600860600@marionlib.org
SUMMARY:Storytime
DESCRIPTION:REGISTRATION REQUIRED. Stop at the desk or call 315-926-4933 to sign up\n\n\n\n\n\n\n\nWednesdays 11:00 AM\nJoin Mrs. Blue for storytime fun for UPK-age children and up. CDC guidelines will be following – masks and social distancing required.
URL:https://marionlib.org/event/storytime/
END:VEVENT
BEGIN:VEVENT
DTSTART;TZID=America/New_York:20200928T183000
DTEND;TZID=America/New_York:20200928T193000
DTSTAMP:20260424T102620
CREATED:20200805T192523Z
LAST-MODIFIED:20200805T192527Z
UID:1817-1601317800-1601321400@marionlib.org
SUMMARY:Sunset Yoga (Outdoors)
DESCRIPTION:THIS IS A FREE SERIES OF OUTDOOR YOGA CLASSES brought to you by the Marion Public Library. \nMasks must be worn while setting up for class outdoors. Once on your socially distanced mat you will have the option to remove your mask. \nYoga with Angela Brown is for everyone regardless of body shape or gender.This 60-minute practice is open to students of ALL levels. \nWear comfortable clothing. Please bring a yoga mat or large towel\, a water bottle and an open mind. \nPlease do your part!\nIf you have any potential COVID-19 symptoms or have been exposed to someone who has the virus\, please stay home. This is the most important way you can protect yourself and others in our community.
URL:https://marionlib.org/event/sunset-yoga-outdoors-3/
ATTACH;FMTTYPE=image/png:https://marionlib.org/wp-content/uploads/sites/13/2020/08/2020-YOGA-1.png
END:VEVENT
BEGIN:VEVENT
DTSTART;TZID=America/New_York:20200930T110000
DTEND;TZID=America/New_York:20200930T113000
DTSTAMP:20260424T102620
CREATED:20200921T190828Z
LAST-MODIFIED:20200921T193027Z
UID:1872-1601463600-1601465400@marionlib.org
SUMMARY:Storytime
DESCRIPTION:REGISTRATION REQUIRED. Stop at the desk or call 315-926-4933 to sign up\n\n\n\n\n\n\n\nWednesdays 11:00 AM\nJoin Mrs. Blue for storytime fun for UPK-age children and up. CDC guidelines will be following – masks and social distancing required.
URL:https://marionlib.org/event/storytime-2/
END:VEVENT
END:VCALENDAR