BEGIN:VCALENDAR
VERSION:2.0
PRODID:-//Marion Public Library - ECPv6.15.20//NONSGML v1.0//EN
CALSCALE:GREGORIAN
METHOD:PUBLISH
X-WR-CALNAME:Marion Public Library
X-ORIGINAL-URL:https://marionlib.org
X-WR-CALDESC:Events for Marion Public Library
REFRESH-INTERVAL;VALUE=DURATION:PT1H
X-Robots-Tag:noindex
X-PUBLISHED-TTL:PT1H
BEGIN:VTIMEZONE
TZID:America/New_York
BEGIN:DAYLIGHT
TZOFFSETFROM:-0500
TZOFFSETTO:-0400
TZNAME:EDT
DTSTART:20190310T070000
END:DAYLIGHT
BEGIN:STANDARD
TZOFFSETFROM:-0400
TZOFFSETTO:-0500
TZNAME:EST
DTSTART:20191103T060000
END:STANDARD
BEGIN:DAYLIGHT
TZOFFSETFROM:-0500
TZOFFSETTO:-0400
TZNAME:EDT
DTSTART:20200308T070000
END:DAYLIGHT
BEGIN:STANDARD
TZOFFSETFROM:-0400
TZOFFSETTO:-0500
TZNAME:EST
DTSTART:20201101T060000
END:STANDARD
BEGIN:DAYLIGHT
TZOFFSETFROM:-0500
TZOFFSETTO:-0400
TZNAME:EDT
DTSTART:20210314T070000
END:DAYLIGHT
BEGIN:STANDARD
TZOFFSETFROM:-0400
TZOFFSETTO:-0500
TZNAME:EST
DTSTART:20211107T060000
END:STANDARD
END:VTIMEZONE
BEGIN:VEVENT
DTSTART;TZID=America/New_York:20200814T150000
DTEND;TZID=America/New_York:20200814T160000
DTSTAMP:20260424T131343
CREATED:20200722T234717Z
LAST-MODIFIED:20200722T235543Z
UID:1764-1597417200-1597420800@marionlib.org
SUMMARY:Summer Gardening Program
DESCRIPTION:Sowing Autumn Abundance\nVIA ZOOM\nPlant in late summer to enjoy the sweetest fall peas & to have enough spinach to enjoy through the spring! Here are the easiest seeds to sow to surround yourself with abundance for seasons to come\, plus the common mistakes people make so you sow with confidence! Join life-long gardener\, Naples native & co-founder of Fruition Seeds\, Petra Page-Mann.\nRegistration is required for the event. Please complete this google form to register. https://docs.google.com/forms/d/e/1FAIpQLSc5AXe0igcfeOI3VAXbBJ8g0lKBEtNbdnizIQvnB5dm4oAsRA/viewform
URL:https://marionlib.org/event/first-chapter-friday/
END:VEVENT
BEGIN:VEVENT
DTSTART;TZID=America/New_York:20200818T190000
DTEND;TZID=America/New_York:20200818T200000
DTSTAMP:20260424T131343
CREATED:20200722T232028Z
LAST-MODIFIED:20200722T235650Z
UID:1748-1597777200-1597780800@marionlib.org
SUMMARY:Board of Trustees Meeting
DESCRIPTION:The community is always welcome to attend.
URL:https://marionlib.org/event/board-of-trustees-meeting/
LOCATION:Marion Public Library\, 4036 Maple Avenue\, Marion\, NY\, 14505\, United States
ORGANIZER;CN="Tracy Whitney":MAILTO:twhitney@pls-net.org
END:VEVENT
END:VCALENDAR