BEGIN:VCALENDAR
VERSION:2.0
PRODID:-//Marion Public Library - ECPv6.15.20//NONSGML v1.0//EN
CALSCALE:GREGORIAN
METHOD:PUBLISH
X-WR-CALNAME:Marion Public Library
X-ORIGINAL-URL:https://marionlib.org
X-WR-CALDESC:Events for Marion Public Library
REFRESH-INTERVAL;VALUE=DURATION:PT1H
X-Robots-Tag:noindex
X-PUBLISHED-TTL:PT1H
BEGIN:VTIMEZONE
TZID:America/New_York
BEGIN:DAYLIGHT
TZOFFSETFROM:-0500
TZOFFSETTO:-0400
TZNAME:EDT
DTSTART:20230312T070000
END:DAYLIGHT
BEGIN:STANDARD
TZOFFSETFROM:-0400
TZOFFSETTO:-0500
TZNAME:EST
DTSTART:20231105T060000
END:STANDARD
BEGIN:DAYLIGHT
TZOFFSETFROM:-0500
TZOFFSETTO:-0400
TZNAME:EDT
DTSTART:20240310T070000
END:DAYLIGHT
BEGIN:STANDARD
TZOFFSETFROM:-0400
TZOFFSETTO:-0500
TZNAME:EST
DTSTART:20241103T060000
END:STANDARD
BEGIN:DAYLIGHT
TZOFFSETFROM:-0500
TZOFFSETTO:-0400
TZNAME:EDT
DTSTART:20250309T070000
END:DAYLIGHT
BEGIN:STANDARD
TZOFFSETFROM:-0400
TZOFFSETTO:-0500
TZNAME:EST
DTSTART:20251102T060000
END:STANDARD
END:VTIMEZONE
BEGIN:VEVENT
DTSTART;TZID=America/New_York:20240925T183000
DTEND;TZID=America/New_York:20240925T193000
DTSTAMP:20260420T145907
CREATED:20240918T201817Z
LAST-MODIFIED:20240918T201918Z
UID:4959-1727289000-1727292600@marionlib.org
SUMMARY:Yoga
DESCRIPTION:Yoga with Terry Whitt is for everyone.This FREE 60-minute practice is open to students of ALL levels.Wear comfortable clothing. Please bring a yoga mat or large towel\, a water bottle and an open mind.
URL:https://marionlib.org/event/yoga-28/
END:VEVENT
BEGIN:VEVENT
DTSTART;TZID=America/New_York:20240925T103000
DTEND;TZID=America/New_York:20240925T110000
DTSTAMP:20260420T145907
CREATED:20240801T180035Z
LAST-MODIFIED:20240801T180042Z
UID:4804-1727260200-1727262000@marionlib.org
SUMMARY:Preschool Storytime
DESCRIPTION:geared toward children up to age 3
URL:https://marionlib.org/event/preschool-storytime-91/
END:VEVENT
BEGIN:VEVENT
DTSTART;TZID=America/New_York:20240923T180000
DTEND;TZID=America/New_York:20240923T200000
DTSTAMP:20260420T145907
CREATED:20240904T151745Z
LAST-MODIFIED:20240904T151844Z
UID:4924-1727114400-1727121600@marionlib.org
SUMMARY:Book Talk With Local Author\, M. Rinella
DESCRIPTION:Join us for a chat with local author\,  Michael Rinella about his latest book\, “Ann Sheridan: The Life and Career of Hollywood’s Oomph Girl.”\nAfter the talk there will be a showing the 1940 film\, “It All Came True\,” starring Ann Sheridan and Humphrey Bogart\, the movie that propelled Ms. Sheridan to stardom.
URL:https://marionlib.org/event/book-talk-with-michael-rinella-local-author/
END:VEVENT
BEGIN:VEVENT
DTSTART;TZID=America/New_York:20240923T103000
DTEND;TZID=America/New_York:20240923T110000
DTSTAMP:20260420T145907
CREATED:20240801T172206Z
LAST-MODIFIED:20240801T172215Z
UID:4795-1727087400-1727089200@marionlib.org
SUMMARY:Toddler Storytime
DESCRIPTION:geared toward children up to age 3
URL:https://marionlib.org/event/toddler-storytime-99/
END:VEVENT
BEGIN:VEVENT
DTSTART;VALUE=DATE:20240923
DTEND;VALUE=DATE:20240924
DTSTAMP:20260420T145907
CREATED:20240828T192250Z
LAST-MODIFIED:20240828T192250Z
UID:4917-1727049600-1727135999@marionlib.org
SUMMARY:First Day of Diaper Drive
DESCRIPTION:
URL:https://marionlib.org/event/first-day-of-diaper-drive/
END:VEVENT
BEGIN:VEVENT
DTSTART;TZID=America/New_York:20240918T103000
DTEND;TZID=America/New_York:20240918T110000
DTSTAMP:20260420T145907
CREATED:20240801T175949Z
LAST-MODIFIED:20240801T175949Z
UID:4802-1726655400-1726657200@marionlib.org
SUMMARY:Preschool Storytime
DESCRIPTION:geared toward children up to age 3
URL:https://marionlib.org/event/preschool-storytime-90/
END:VEVENT
BEGIN:VEVENT
DTSTART;TZID=America/New_York:20240917T190000
DTEND;TZID=America/New_York:20240917T200000
DTSTAMP:20260420T145907
CREATED:20240801T170658Z
LAST-MODIFIED:20240801T170658Z
UID:4779-1726599600-1726603200@marionlib.org
SUMMARY:Board of Trustees Meeting
DESCRIPTION:The community is always welcome to attend.
URL:https://marionlib.org/event/board-of-trustees-meeting-26/
END:VEVENT
BEGIN:VEVENT
DTSTART;TZID=America/New_York:20240916T103000
DTEND;TZID=America/New_York:20240916T110000
DTSTAMP:20260420T145907
CREATED:20240801T171848Z
LAST-MODIFIED:20240801T171922Z
UID:4790-1726482600-1726484400@marionlib.org
SUMMARY:Toddler Storytime
DESCRIPTION:geared toward children up to age 3
URL:https://marionlib.org/event/toddler-storytime-97/
END:VEVENT
BEGIN:VEVENT
DTSTART;TZID=America/New_York:20240911T183000
DTEND;TZID=America/New_York:20240911T200000
DTSTAMP:20260420T145907
CREATED:20240801T170800Z
LAST-MODIFIED:20240801T171401Z
UID:4781-1726079400-1726084800@marionlib.org
SUMMARY:Book Club
DESCRIPTION:
URL:https://marionlib.org/event/book-club-30/
END:VEVENT
BEGIN:VEVENT
DTSTART;TZID=America/New_York:20240911T103000
DTEND;TZID=America/New_York:20240911T110000
DTSTAMP:20260420T145907
CREATED:20240801T175846Z
LAST-MODIFIED:20240801T175855Z
UID:4799-1726050600-1726052400@marionlib.org
SUMMARY:Preschool Storytime
DESCRIPTION:geared toward children up to age 3 \n \n 
URL:https://marionlib.org/event/preschool-storytime-89/
END:VEVENT
BEGIN:VEVENT
DTSTART;TZID=America/New_York:20240909T103000
DTEND;TZID=America/New_York:20240909T110000
DTSTAMP:20260420T145907
CREATED:20240801T171751Z
LAST-MODIFIED:20240801T171801Z
UID:4786-1725877800-1725879600@marionlib.org
SUMMARY:Toddler Storytime
DESCRIPTION:geared toward children up to age 3
URL:https://marionlib.org/event/toddler-storytime-96/
END:VEVENT
BEGIN:VEVENT
DTSTART;TZID=America/New_York:20240907T090000
DTEND;TZID=America/New_York:20240907T150000
DTSTAMP:20260420T145907
CREATED:20240801T170535Z
LAST-MODIFIED:20240801T170535Z
UID:4776-1725699600-1725721200@marionlib.org
SUMMARY:Book & Pie Sale
DESCRIPTION:
URL:https://marionlib.org/event/book-pie-sale-2/
END:VEVENT
BEGIN:VEVENT
DTSTART;VALUE=DATE:20240902
DTEND;VALUE=DATE:20240903
DTSTAMP:20260420T145907
CREATED:20240801T171431Z
LAST-MODIFIED:20240801T171431Z
UID:4784-1725235200-1725321599@marionlib.org
SUMMARY:Labor Day Closing
DESCRIPTION:
URL:https://marionlib.org/event/labor-day-closing/
END:VEVENT
BEGIN:VEVENT
DTSTART;VALUE=DATE:20240831
DTEND;VALUE=DATE:20240901
DTSTAMP:20260420T145907
CREATED:20240626T183228Z
LAST-MODIFIED:20240626T183228Z
UID:4558-1725062400-1725148799@marionlib.org
SUMMARY:Labor Day Weekend Closing
DESCRIPTION:
URL:https://marionlib.org/event/labor-day-weekend-closing/
END:VEVENT
BEGIN:VEVENT
DTSTART;TZID=America/New_York:20240830T140000
DTEND;TZID=America/New_York:20240830T180000
DTSTAMP:20260420T145907
CREATED:20240626T183351Z
LAST-MODIFIED:20240802T143101Z
UID:4560-1725026400-1725040800@marionlib.org
SUMMARY:Turn in BINGO sheets
DESCRIPTION:last call!
URL:https://marionlib.org/event/turn-in-bingo-sheets/
ATTACH;FMTTYPE=image/png:https://marionlib.org/wp-content/uploads/sites/13/2024/07/Play-book-bingo-Instagram-Post.png
END:VEVENT
BEGIN:VEVENT
DTSTART;TZID=America/New_York:20240828T183000
DTEND;TZID=America/New_York:20240828T193000
DTSTAMP:20260420T145907
CREATED:20240626T180921Z
LAST-MODIFIED:20240626T180921Z
UID:4546-1724869800-1724873400@marionlib.org
SUMMARY:Yoga
DESCRIPTION:
URL:https://marionlib.org/event/yoga-27/
END:VEVENT
BEGIN:VEVENT
DTSTART;TZID=America/New_York:20240821T183000
DTEND;TZID=America/New_York:20240821T193000
DTSTAMP:20260420T145907
CREATED:20240626T180835Z
LAST-MODIFIED:20240626T180835Z
UID:4544-1724265000-1724268600@marionlib.org
SUMMARY:Yoga
DESCRIPTION:
URL:https://marionlib.org/event/yoga-26/
END:VEVENT
BEGIN:VEVENT
DTSTART;TZID=America/New_York:20240820T190000
DTEND;TZID=America/New_York:20240820T200000
DTSTAMP:20260420T145907
CREATED:20240626T182809Z
LAST-MODIFIED:20240813T203640Z
UID:4556-1724180400-1724184000@marionlib.org
SUMMARY:Board of Trustees Meeting
DESCRIPTION:The community is welcome to attend.
URL:https://marionlib.org/event/board-of-trustees-meeting-25/
END:VEVENT
BEGIN:VEVENT
DTSTART;TZID=America/New_York:20240814T183000
DTEND;TZID=America/New_York:20240814T200000
DTSTAMP:20260420T145907
CREATED:20240626T182721Z
LAST-MODIFIED:20240626T182721Z
UID:4553-1723660200-1723665600@marionlib.org
SUMMARY:Adult Book Club
DESCRIPTION:
URL:https://marionlib.org/event/adult-book-club-2/
ATTACH;FMTTYPE=image/jpeg:https://marionlib.org/wp-content/uploads/sites/13/2024/06/2-3.jpg
END:VEVENT
BEGIN:VEVENT
DTSTART;TZID=America/New_York:20240814T183000
DTEND;TZID=America/New_York:20240814T193000
DTSTAMP:20260420T145907
CREATED:20240626T180750Z
LAST-MODIFIED:20240626T180750Z
UID:4542-1723660200-1723663800@marionlib.org
SUMMARY:Yoga
DESCRIPTION:
URL:https://marionlib.org/event/yoga-25/
END:VEVENT
BEGIN:VEVENT
DTSTART;TZID=America/New_York:20240808T143000
DTEND;TZID=America/New_York:20240808T153000
DTSTAMP:20260420T145907
CREATED:20240626T211255Z
LAST-MODIFIED:20240802T142845Z
UID:4573-1723127400-1723131000@marionlib.org
SUMMARY:Mad Hatter Finale Party
DESCRIPTION:Join us for the summer-end PRIZE DRAWINGS\, when all raffle winners will be drawn and announced. There will be games\, snacks\, and silly headbands with a tea cup/top hat to wear. All ages are welcome to join in the fun with all our crazy library friends.
URL:https://marionlib.org/event/mad-hatter-finale-party/
ATTACH;FMTTYPE=image/jpeg:https://marionlib.org/wp-content/uploads/sites/13/2024/06/Mad-Hatter-Wonderland-Adventures.jpg
END:VEVENT
BEGIN:VEVENT
DTSTART;TZID=America/New_York:20240807T183000
DTEND;TZID=America/New_York:20240807T193000
DTSTAMP:20260420T145907
CREATED:20240626T180650Z
LAST-MODIFIED:20240626T180650Z
UID:4540-1723055400-1723059000@marionlib.org
SUMMARY:Yoga
DESCRIPTION:
URL:https://marionlib.org/event/yoga-24/
ATTACH;FMTTYPE=image/png:https://marionlib.org/wp-content/uploads/sites/13/2024/06/YOGA.png
END:VEVENT
BEGIN:VEVENT
DTSTART;TZID=America/New_York:20240807T103000
DTEND;TZID=America/New_York:20240807T110000
DTSTAMP:20260420T145907
CREATED:20240611T194042Z
LAST-MODIFIED:20240611T194042Z
UID:4440-1723026600-1723028400@marionlib.org
SUMMARY:Storytime
DESCRIPTION:
URL:https://marionlib.org/event/storytime-15/
END:VEVENT
BEGIN:VEVENT
DTSTART;TZID=America/New_York:20240806T143000
DTEND;TZID=America/New_York:20240806T160000
DTSTAMP:20260420T145907
CREATED:20240611T195511Z
LAST-MODIFIED:20240802T143154Z
UID:4447-1722954600-1722960000@marionlib.org
SUMMARY:Craft and Snack
DESCRIPTION:
URL:https://marionlib.org/event/craft-and-snack-3/
ATTACH;FMTTYPE=image/png:https://marionlib.org/wp-content/uploads/sites/13/2024/06/summer-3-2.png
END:VEVENT
BEGIN:VEVENT
DTSTART;TZID=America/New_York:20240805T190000
DTEND;TZID=America/New_York:20240805T193000
DTSTAMP:20260420T145907
CREATED:20240611T193559Z
LAST-MODIFIED:20240611T193559Z
UID:4430-1722884400-1722886200@marionlib.org
SUMMARY:PJ Storytime
DESCRIPTION:
URL:https://marionlib.org/event/pj-storytime-9/
END:VEVENT
BEGIN:VEVENT
DTSTART;TZID=America/New_York:20240801T180000
DTEND;TZID=America/New_York:20240801T200000
DTSTAMP:20260420T145907
CREATED:20240626T181605Z
LAST-MODIFIED:20240626T182129Z
UID:4548-1722535200-1722542400@marionlib.org
SUMMARY:Hot Air Balloon at Town Park
DESCRIPTION:Weather permitting \nJoin us for this amazing presentation at the Marion Town Park!
URL:https://marionlib.org/event/hot-air-balloon-at-town-park/
ATTACH;FMTTYPE=image/jpeg:https://marionlib.org/wp-content/uploads/sites/13/2024/06/balloon.jpg
END:VEVENT
BEGIN:VEVENT
DTSTART;TZID=America/New_York:20240801T080000
DTEND;TZID=America/New_York:20240801T170000
DTSTAMP:20260420T145907
CREATED:20240801T172114Z
LAST-MODIFIED:20240801T172114Z
UID:4793-1722499200-1722531600@marionlib.org
SUMMARY:Toddler Storytime
DESCRIPTION:geared toward children up to age 3
URL:https://marionlib.org/event/toddler-storytime-98/
END:VEVENT
BEGIN:VEVENT
DTSTART;TZID=America/New_York:20240731T183000
DTEND;TZID=America/New_York:20240731T193000
DTSTAMP:20260420T145907
CREATED:20240626T180547Z
LAST-MODIFIED:20240626T180547Z
UID:4538-1722450600-1722454200@marionlib.org
SUMMARY:Yoga
DESCRIPTION:
URL:https://marionlib.org/event/yoga-23/
END:VEVENT
BEGIN:VEVENT
DTSTART;TZID=America/New_York:20240731T103000
DTEND;TZID=America/New_York:20240731T110000
DTSTAMP:20260420T145907
CREATED:20240611T193958Z
LAST-MODIFIED:20240611T193958Z
UID:4438-1722421800-1722423600@marionlib.org
SUMMARY:Storytime
DESCRIPTION:
URL:https://marionlib.org/event/storytime-14/
END:VEVENT
BEGIN:VEVENT
DTSTART;TZID=America/New_York:20240730T140000
DTEND;TZID=America/New_York:20240730T150000
DTSTAMP:20260420T145907
CREATED:20240626T191904Z
LAST-MODIFIED:20240626T191904Z
UID:4563-1722348000-1722351600@marionlib.org
SUMMARY:Wildlife Rockstars
DESCRIPTION:Superheroes! – Superheroes have lots of special powers\, but how many of those powers are also found in the animal kingdom? This program is designed specifically to tie in the achievements of our Wildlife Rockstars as brain trauma survivors and is individualized and styled for each show based on attendees and presenters. The educational premise is to introduce the animal ambassadors based on their survival techniques and what makes them thrive in their environment.
URL:https://marionlib.org/event/wildlife-rockstars/
END:VEVENT
END:VCALENDAR