BEGIN:VCALENDAR
VERSION:2.0
PRODID:-//Marion Public Library - ECPv6.15.20//NONSGML v1.0//EN
CALSCALE:GREGORIAN
METHOD:PUBLISH
X-ORIGINAL-URL:https://marionlib.org
X-WR-CALDESC:Events for Marion Public Library
REFRESH-INTERVAL;VALUE=DURATION:PT1H
X-Robots-Tag:noindex
X-PUBLISHED-TTL:PT1H
BEGIN:VTIMEZONE
TZID:America/New_York
BEGIN:DAYLIGHT
TZOFFSETFROM:-0500
TZOFFSETTO:-0400
TZNAME:EDT
DTSTART:20230312T070000
END:DAYLIGHT
BEGIN:STANDARD
TZOFFSETFROM:-0400
TZOFFSETTO:-0500
TZNAME:EST
DTSTART:20231105T060000
END:STANDARD
BEGIN:DAYLIGHT
TZOFFSETFROM:-0500
TZOFFSETTO:-0400
TZNAME:EDT
DTSTART:20240310T070000
END:DAYLIGHT
BEGIN:STANDARD
TZOFFSETFROM:-0400
TZOFFSETTO:-0500
TZNAME:EST
DTSTART:20241103T060000
END:STANDARD
BEGIN:DAYLIGHT
TZOFFSETFROM:-0500
TZOFFSETTO:-0400
TZNAME:EDT
DTSTART:20250309T070000
END:DAYLIGHT
BEGIN:STANDARD
TZOFFSETFROM:-0400
TZOFFSETTO:-0500
TZNAME:EST
DTSTART:20251102T060000
END:STANDARD
END:VTIMEZONE
BEGIN:VEVENT
DTSTART;TZID=America/New_York:20241127T103000
DTEND;TZID=America/New_York:20241127T110000
DTSTAMP:20260421T092505
CREATED:20241025T175116Z
LAST-MODIFIED:20241025T175116Z
UID:5110-1732703400-1732705200@marionlib.org
SUMMARY:Preschool Storytime
DESCRIPTION:
URL:https://marionlib.org/event/preschool-storytime-99/
END:VEVENT
BEGIN:VEVENT
DTSTART;TZID=America/New_York:20241127T183000
DTEND;TZID=America/New_York:20241127T193000
DTSTAMP:20260421T092505
CREATED:20240918T202654Z
LAST-MODIFIED:20240918T202654Z
UID:4978-1732732200-1732735800@marionlib.org
SUMMARY:Yoga
DESCRIPTION:Yoga with Terry Whitt is for everyone.This FREE 60-minute practice is open to students of ALL levels.Wear comfortable clothing. Please bring a yoga mat or large towel\, a water bottle and an open mind.
URL:https://marionlib.org/event/yoga-37/
END:VEVENT
END:VCALENDAR