BEGIN:VCALENDAR
VERSION:2.0
PRODID:-//Marion Public Library - ECPv6.15.20//NONSGML v1.0//EN
CALSCALE:GREGORIAN
METHOD:PUBLISH
X-ORIGINAL-URL:https://marionlib.org
X-WR-CALDESC:Events for Marion Public Library
REFRESH-INTERVAL;VALUE=DURATION:PT1H
X-Robots-Tag:noindex
X-PUBLISHED-TTL:PT1H
BEGIN:VTIMEZONE
TZID:America/New_York
BEGIN:DAYLIGHT
TZOFFSETFROM:-0500
TZOFFSETTO:-0400
TZNAME:EDT
DTSTART:20220313T070000
END:DAYLIGHT
BEGIN:STANDARD
TZOFFSETFROM:-0400
TZOFFSETTO:-0500
TZNAME:EST
DTSTART:20221106T060000
END:STANDARD
BEGIN:DAYLIGHT
TZOFFSETFROM:-0500
TZOFFSETTO:-0400
TZNAME:EDT
DTSTART:20230312T070000
END:DAYLIGHT
BEGIN:STANDARD
TZOFFSETFROM:-0400
TZOFFSETTO:-0500
TZNAME:EST
DTSTART:20231105T060000
END:STANDARD
BEGIN:DAYLIGHT
TZOFFSETFROM:-0500
TZOFFSETTO:-0400
TZNAME:EDT
DTSTART:20240310T070000
END:DAYLIGHT
BEGIN:STANDARD
TZOFFSETFROM:-0400
TZOFFSETTO:-0500
TZNAME:EST
DTSTART:20241103T060000
END:STANDARD
END:VTIMEZONE
BEGIN:VEVENT
DTSTART;VALUE=DATE:20231218
DTEND;VALUE=DATE:20231219
DTSTAMP:20260422T005432
CREATED:20231120T192325Z
LAST-MODIFIED:20231120T192325Z
UID:3990-1702857600-1702943999@marionlib.org
SUMMARY:Angel Tree Gifts Deadline
DESCRIPTION:
URL:https://marionlib.org/event/angel-tree-gifts-deadline/
END:VEVENT
BEGIN:VEVENT
DTSTART;TZID=America/New_York:20231218T103000
DTEND;TZID=America/New_York:20231218T110000
DTSTAMP:20260422T005432
CREATED:20231023T192443Z
LAST-MODIFIED:20231023T192443Z
UID:3933-1702895400-1702897200@marionlib.org
SUMMARY:Toddler Storytime
DESCRIPTION:
URL:https://marionlib.org/event/toddler-storytime-72/
END:VEVENT
END:VCALENDAR