BEGIN:VCALENDAR
VERSION:2.0
PRODID:-//Marion Public Library - ECPv6.15.20//NONSGML v1.0//EN
CALSCALE:GREGORIAN
METHOD:PUBLISH
X-WR-CALNAME:Marion Public Library
X-ORIGINAL-URL:https://marionlib.org
X-WR-CALDESC:Events for Marion Public Library
REFRESH-INTERVAL;VALUE=DURATION:PT1H
X-Robots-Tag:noindex
X-PUBLISHED-TTL:PT1H
BEGIN:VTIMEZONE
TZID:America/New_York
BEGIN:DAYLIGHT
TZOFFSETFROM:-0500
TZOFFSETTO:-0400
TZNAME:EDT
DTSTART:20220313T070000
END:DAYLIGHT
BEGIN:STANDARD
TZOFFSETFROM:-0400
TZOFFSETTO:-0500
TZNAME:EST
DTSTART:20221106T060000
END:STANDARD
BEGIN:DAYLIGHT
TZOFFSETFROM:-0500
TZOFFSETTO:-0400
TZNAME:EDT
DTSTART:20230312T070000
END:DAYLIGHT
BEGIN:STANDARD
TZOFFSETFROM:-0400
TZOFFSETTO:-0500
TZNAME:EST
DTSTART:20231105T060000
END:STANDARD
BEGIN:DAYLIGHT
TZOFFSETFROM:-0500
TZOFFSETTO:-0400
TZNAME:EDT
DTSTART:20240310T070000
END:DAYLIGHT
BEGIN:STANDARD
TZOFFSETFROM:-0400
TZOFFSETTO:-0500
TZNAME:EST
DTSTART:20241103T060000
END:STANDARD
END:VTIMEZONE
BEGIN:VEVENT
DTSTART;VALUE=DATE:20231127
DTEND;VALUE=DATE:20231128
DTSTAMP:20260422T005407
CREATED:20231121T221652Z
LAST-MODIFIED:20231121T222004Z
UID:4004-1701043200-1701129599@marionlib.org
SUMMARY:Bring In Gingerbread Houses
DESCRIPTION:
URL:https://marionlib.org/event/bring-in-gingerbread-houses/
END:VEVENT
BEGIN:VEVENT
DTSTART;TZID=America/New_York:20231127T090000
DTEND;TZID=America/New_York:20231127T160000
DTSTAMP:20260422T005407
CREATED:20231023T191459Z
LAST-MODIFIED:20231023T191821Z
UID:3925-1701075600-1701100800@marionlib.org
SUMMARY:Rochester Regional Mobile Mammogram
DESCRIPTION:call (585) 922-PINK for more information
URL:https://marionlib.org/event/book-club-22/
END:VEVENT
BEGIN:VEVENT
DTSTART;TZID=America/New_York:20231127T103000
DTEND;TZID=America/New_York:20231127T110000
DTSTAMP:20260422T005407
CREATED:20231023T190533Z
LAST-MODIFIED:20231023T190533Z
UID:3911-1701081000-1701082800@marionlib.org
SUMMARY:Toddler Storytime
DESCRIPTION:
URL:https://marionlib.org/event/toddler-storytime-69/
END:VEVENT
END:VCALENDAR