BEGIN:VCALENDAR
VERSION:2.0
PRODID:-//Marion Public Library - ECPv6.15.20//NONSGML v1.0//EN
CALSCALE:GREGORIAN
METHOD:PUBLISH
X-ORIGINAL-URL:https://marionlib.org
X-WR-CALDESC:Events for Marion Public Library
REFRESH-INTERVAL;VALUE=DURATION:PT1H
X-Robots-Tag:noindex
X-PUBLISHED-TTL:PT1H
BEGIN:VTIMEZONE
TZID:America/New_York
BEGIN:DAYLIGHT
TZOFFSETFROM:-0500
TZOFFSETTO:-0400
TZNAME:EDT
DTSTART:20220313T070000
END:DAYLIGHT
BEGIN:STANDARD
TZOFFSETFROM:-0400
TZOFFSETTO:-0500
TZNAME:EST
DTSTART:20221106T060000
END:STANDARD
BEGIN:DAYLIGHT
TZOFFSETFROM:-0500
TZOFFSETTO:-0400
TZNAME:EDT
DTSTART:20230312T070000
END:DAYLIGHT
BEGIN:STANDARD
TZOFFSETFROM:-0400
TZOFFSETTO:-0500
TZNAME:EST
DTSTART:20231105T060000
END:STANDARD
BEGIN:DAYLIGHT
TZOFFSETFROM:-0500
TZOFFSETTO:-0400
TZNAME:EDT
DTSTART:20240310T070000
END:DAYLIGHT
BEGIN:STANDARD
TZOFFSETFROM:-0400
TZOFFSETTO:-0500
TZNAME:EST
DTSTART:20241103T060000
END:STANDARD
END:VTIMEZONE
BEGIN:VEVENT
DTSTART;TZID=America/New_York:20230929T143000
DTEND;TZID=America/New_York:20230929T153000
DTSTAMP:20260422T033118
CREATED:20230914T185703Z
LAST-MODIFIED:20230914T185703Z
UID:3853-1695997800-1696001400@marionlib.org
SUMMARY:Emergency Preparedness
DESCRIPTION:Are you prepared for an emergency?\n\n\nSeptember 29\, 2:30 – 3:30\n\n\nSeptember is National Preparedness Month. Learn information to help you be prepared for disasters. We know especially older adults and those with functional needs can face greater risks when it comes to the multitude of extreme weather events and emergencies we now face\, especially if they are living alone\, are low-income\, have a disability\, or live in rural areas.
URL:https://marionlib.org/event/emergency-preparedness/
END:VEVENT
END:VCALENDAR