BEGIN:VCALENDAR
VERSION:2.0
PRODID:-//Marion Public Library - ECPv6.15.20//NONSGML v1.0//EN
CALSCALE:GREGORIAN
METHOD:PUBLISH
X-ORIGINAL-URL:https://marionlib.org
X-WR-CALDESC:Events for Marion Public Library
REFRESH-INTERVAL;VALUE=DURATION:PT1H
X-Robots-Tag:noindex
X-PUBLISHED-TTL:PT1H
BEGIN:VTIMEZONE
TZID:America/New_York
BEGIN:DAYLIGHT
TZOFFSETFROM:-0500
TZOFFSETTO:-0400
TZNAME:EDT
DTSTART:20220313T070000
END:DAYLIGHT
BEGIN:STANDARD
TZOFFSETFROM:-0400
TZOFFSETTO:-0500
TZNAME:EST
DTSTART:20221106T060000
END:STANDARD
BEGIN:DAYLIGHT
TZOFFSETFROM:-0500
TZOFFSETTO:-0400
TZNAME:EDT
DTSTART:20230312T070000
END:DAYLIGHT
BEGIN:STANDARD
TZOFFSETFROM:-0400
TZOFFSETTO:-0500
TZNAME:EST
DTSTART:20231105T060000
END:STANDARD
BEGIN:DAYLIGHT
TZOFFSETFROM:-0500
TZOFFSETTO:-0400
TZNAME:EDT
DTSTART:20240310T070000
END:DAYLIGHT
BEGIN:STANDARD
TZOFFSETFROM:-0400
TZOFFSETTO:-0500
TZNAME:EST
DTSTART:20241103T060000
END:STANDARD
END:VTIMEZONE
BEGIN:VEVENT
DTSTART;TZID=America/New_York:20230204T090000
DTEND;TZID=America/New_York:20230204T120000
DTSTAMP:20260422T184037
CREATED:20230111T162603Z
LAST-MODIFIED:20230111T162603Z
UID:3225-1675501200-1675512000@marionlib.org
SUMMARY:Take Your Child to the Library Day
DESCRIPTION:Take Your Child to the Library Day takes place throughout libraries in the United States and Canada annually on the first Saturday of February\, falling on February 4 this year.
URL:https://marionlib.org/event/take-your-child-to-the-library-day/
END:VEVENT
END:VCALENDAR