BEGIN:VCALENDAR
VERSION:2.0
PRODID:-//Marion Public Library - ECPv6.15.20//NONSGML v1.0//EN
CALSCALE:GREGORIAN
METHOD:PUBLISH
X-ORIGINAL-URL:https://marionlib.org
X-WR-CALDESC:Events for Marion Public Library
REFRESH-INTERVAL;VALUE=DURATION:PT1H
X-Robots-Tag:noindex
X-PUBLISHED-TTL:PT1H
BEGIN:VTIMEZONE
TZID:America/New_York
BEGIN:DAYLIGHT
TZOFFSETFROM:-0500
TZOFFSETTO:-0400
TZNAME:EDT
DTSTART:20200308T070000
END:DAYLIGHT
BEGIN:STANDARD
TZOFFSETFROM:-0400
TZOFFSETTO:-0500
TZNAME:EST
DTSTART:20201101T060000
END:STANDARD
BEGIN:DAYLIGHT
TZOFFSETFROM:-0500
TZOFFSETTO:-0400
TZNAME:EDT
DTSTART:20210314T070000
END:DAYLIGHT
BEGIN:STANDARD
TZOFFSETFROM:-0400
TZOFFSETTO:-0500
TZNAME:EST
DTSTART:20211107T060000
END:STANDARD
BEGIN:DAYLIGHT
TZOFFSETFROM:-0500
TZOFFSETTO:-0400
TZNAME:EDT
DTSTART:20220313T070000
END:DAYLIGHT
BEGIN:STANDARD
TZOFFSETFROM:-0400
TZOFFSETTO:-0500
TZNAME:EST
DTSTART:20221106T060000
END:STANDARD
END:VTIMEZONE
BEGIN:VEVENT
DTSTART;TZID=America/New_York:20211004T103000
DTEND;TZID=America/New_York:20211004T110000
DTSTAMP:20260423T175037
CREATED:20210924T165032Z
LAST-MODIFIED:20210924T165032Z
UID:2407-1633343400-1633345200@marionlib.org
SUMMARY:Baby/Toddler Story Time
DESCRIPTION:
URL:https://marionlib.org/event/baby-toddler-story-time-8/
END:VEVENT
BEGIN:VEVENT
DTSTART;TZID=America/New_York:20211004T180000
DTEND;TZID=America/New_York:20211004T190000
DTSTAMP:20260423T175037
CREATED:20210310T175342Z
LAST-MODIFIED:20211004T193404Z
UID:2122-1633370400-1633374000@marionlib.org
SUMMARY:How to Grow Your Own Microgreens with Petra Page-Mann
DESCRIPTION:Composting and cleaning up fall gardens. Join Petra Page-Mann\, founder and proprietor of Fruition Seeds\, who would love to set you up for success!\nThe information you need to participate will be sent to you 1-3 days prior to the event date (October 4\, 2021)\nTo Register: https://docs.google.com/forms/d/e/1FAIpQLSevw64I27Ao_4vGCr4QGjK7TSwZ6_s38WoTYyQYZapMC7UDew/viewform?fbclid=IwAR0lFThKRgL1vBKwJvmc1pOeITC7v-yPJ6GA3YZN5DyJX1GUuzxUmeNUi6U
URL:https://marionlib.org/event/how-to-grow-your-own-microgreens-with-petra-page-mann/
END:VEVENT
END:VCALENDAR