BEGIN:VCALENDAR
VERSION:2.0
PRODID:-//Marion Public Library - ECPv6.15.20//NONSGML v1.0//EN
CALSCALE:GREGORIAN
METHOD:PUBLISH
X-WR-CALNAME:Marion Public Library
X-ORIGINAL-URL:https://marionlib.org
X-WR-CALDESC:Events for Marion Public Library
REFRESH-INTERVAL;VALUE=DURATION:PT1H
X-Robots-Tag:noindex
X-PUBLISHED-TTL:PT1H
BEGIN:VTIMEZONE
TZID:America/New_York
BEGIN:DAYLIGHT
TZOFFSETFROM:-0500
TZOFFSETTO:-0400
TZNAME:EDT
DTSTART:20200308T070000
END:DAYLIGHT
BEGIN:STANDARD
TZOFFSETFROM:-0400
TZOFFSETTO:-0500
TZNAME:EST
DTSTART:20201101T060000
END:STANDARD
BEGIN:DAYLIGHT
TZOFFSETFROM:-0500
TZOFFSETTO:-0400
TZNAME:EDT
DTSTART:20210314T070000
END:DAYLIGHT
BEGIN:STANDARD
TZOFFSETFROM:-0400
TZOFFSETTO:-0500
TZNAME:EST
DTSTART:20211107T060000
END:STANDARD
BEGIN:DAYLIGHT
TZOFFSETFROM:-0500
TZOFFSETTO:-0400
TZNAME:EDT
DTSTART:20220313T070000
END:DAYLIGHT
BEGIN:STANDARD
TZOFFSETFROM:-0400
TZOFFSETTO:-0500
TZNAME:EST
DTSTART:20221106T060000
END:STANDARD
END:VTIMEZONE
BEGIN:VEVENT
DTSTART;TZID=America/New_York:20210719T103000
DTEND;TZID=America/New_York:20210719T110000
DTSTAMP:20260423T215756
CREATED:20210602T165057Z
LAST-MODIFIED:20210602T165057Z
UID:2235-1626690600-1626692400@marionlib.org
SUMMARY:Baby/Toddler Story Time
DESCRIPTION:Ages birth-2 years (with a favorite adult) enjoy songs\, action rhymes\, and short stories in each session. Toddler Time gives your baby the opportunity to encourage your child’s emerging language skills while you get to know other young families.
URL:https://marionlib.org/event/baby-toddler-story-time-2/
ATTACH;FMTTYPE=image/jpeg:https://marionlib.org/wp-content/uploads/sites/13/2021/06/Neighborhood-Recreation-Center-1.jpg
END:VEVENT
END:VCALENDAR