BEGIN:VCALENDAR
VERSION:2.0
PRODID:-//Marion Public Library - ECPv6.15.20//NONSGML v1.0//EN
CALSCALE:GREGORIAN
METHOD:PUBLISH
X-ORIGINAL-URL:https://marionlib.org
X-WR-CALDESC:Events for Marion Public Library
REFRESH-INTERVAL;VALUE=DURATION:PT1H
X-Robots-Tag:noindex
X-PUBLISHED-TTL:PT1H
BEGIN:VTIMEZONE
TZID:America/New_York
BEGIN:DAYLIGHT
TZOFFSETFROM:-0500
TZOFFSETTO:-0400
TZNAME:EDT
DTSTART:20190310T070000
END:DAYLIGHT
BEGIN:STANDARD
TZOFFSETFROM:-0400
TZOFFSETTO:-0500
TZNAME:EST
DTSTART:20191103T060000
END:STANDARD
BEGIN:DAYLIGHT
TZOFFSETFROM:-0500
TZOFFSETTO:-0400
TZNAME:EDT
DTSTART:20200308T070000
END:DAYLIGHT
BEGIN:STANDARD
TZOFFSETFROM:-0400
TZOFFSETTO:-0500
TZNAME:EST
DTSTART:20201101T060000
END:STANDARD
BEGIN:DAYLIGHT
TZOFFSETFROM:-0500
TZOFFSETTO:-0400
TZNAME:EDT
DTSTART:20210314T070000
END:DAYLIGHT
BEGIN:STANDARD
TZOFFSETFROM:-0400
TZOFFSETTO:-0500
TZNAME:EST
DTSTART:20211107T060000
END:STANDARD
END:VTIMEZONE
BEGIN:VEVENT
DTSTART;TZID=America/New_York:20200911T160000
DTEND;TZID=America/New_York:20200911T170000
DTSTAMP:20260424T131455
CREATED:20200805T191738Z
LAST-MODIFIED:20200819T210238Z
UID:1811-1599840000-1599843600@marionlib.org
SUMMARY:7 Steps to Growing Great Garlic
DESCRIPTION: 7 Steps to Growing Great Garlic: Garlic is easy & rewarding to grow in western New York! Here are the keys for success\, step by step\, plus the common mistakes people make and their simple solutions to surround you with abundance for years to come. \nRegistration is required for the event. Please complete this google form to register. \nIf you have any further questions please feel free to email alawrence@pls-net.org for more information.
URL:https://marionlib.org/event/7-steps-to-growing-great-garlic/
ATTACH;FMTTYPE=image/jpeg:https://marionlib.org/wp-content/uploads/sites/13/2020/08/116875226_10164301365375221_3545699563599095045_o.jpg
END:VEVENT
END:VCALENDAR